BEGIN:VCALENDAR
VERSION:2.0
PRODID:-//LeisureCourses.net - short courses &amp; residential study breaks in great locations - ECPv4.9.6//NONSGML v1.0//EN
CALSCALE:GREGORIAN
METHOD:PUBLISH
X-WR-CALNAME:LeisureCourses.net - short courses &amp; residential study breaks in great locations
X-ORIGINAL-URL:https://www.leisurecourses.net
X-WR-CALDESC:Events for LeisureCourses.net - short courses &amp; residential study breaks in great locations
BEGIN:VTIMEZONE
TZID:"Europe/Paris"
BEGIN:DAYLIGHT
TZOFFSETFROM:+0100
TZOFFSETTO:+0200
TZNAME:CEST
DTSTART:20160327T010000
END:DAYLIGHT
BEGIN:STANDARD
TZOFFSETFROM:+0200
TZOFFSETTO:+0100
TZNAME:CET
DTSTART:20161030T010000
END:STANDARD
END:VTIMEZONE
BEGIN:VEVENT
DTSTART;TZID="Europe/Paris":20160403T100000
DTEND;TZID="Europe/Paris":20160403T164500
DTSTAMP:20260420T015502
CREATED:20160129T125425Z
LAST-MODIFIED:20160129T162822Z
UID:20281-1459677600-1459701900@www.leisurecourses.net
SUMMARY:A history of English furniture\, 1500-1830
DESCRIPTION:\nA history of English furniture from its beginnings in 1500 through to the beginning of the Victorian period using\, as a framework\, the woods principally utilised\, and combining this with art and social history. The course will aim to provide an appreciation of English furniture\, and there will be an opportunity to handle some items. \n\n \n
URL:https://www.leisurecourses.net/course/a-history-of-english-furniture-1500-1830/
LOCATION:Madingley Hall\, Madingley Hall\,\, Madingley\, Cambridgeshire\, CB23 8AQ\, United Kingdom
CATEGORIES:History
ORGANIZER;CN="University%20of%20Cambridge%20Institute%20of%20Continuing%20Education":MAILTO:enquiries@ice.cam.ac.uk
END:VEVENT
END:VCALENDAR