BEGIN:VCALENDAR
VERSION:2.0
PRODID:-//LeisureCourses.net - short courses &amp; residential study breaks in great locations - ECPv4.9.6//NONSGML v1.0//EN
CALSCALE:GREGORIAN
METHOD:PUBLISH
X-WR-CALNAME:LeisureCourses.net - short courses &amp; residential study breaks in great locations
X-ORIGINAL-URL:https://www.leisurecourses.net
X-WR-CALDESC:Events for LeisureCourses.net - short courses &amp; residential study breaks in great locations
BEGIN:VTIMEZONE
TZID:"Europe/Paris"
BEGIN:DAYLIGHT
TZOFFSETFROM:+0100
TZOFFSETTO:+0200
TZNAME:CEST
DTSTART:20160327T010000
END:DAYLIGHT
BEGIN:STANDARD
TZOFFSETFROM:+0200
TZOFFSETTO:+0100
TZNAME:CET
DTSTART:20161030T010000
END:STANDARD
END:VTIMEZONE
BEGIN:VEVENT
DTSTART;TZID="Europe/Paris":20160527T190000
DTEND;TZID="Europe/Paris":20160529T153000
DTSTAMP:20260420T091739
CREATED:20160307T143309Z
LAST-MODIFIED:20160309T123719Z
UID:21251-1464375600-1464535800@www.leisurecourses.net
SUMMARY:A Weekend of Tai Chi  and Dao Yin
DESCRIPTION:\nSpend a weekend enjoying a variety of flowing Chinese exercises and leave feeling relaxed. This course is suitable for men and women\, for beginners and those with experience of Tai Chi.  You will be encouraged to slow down and exercise smoothly\, find your balance and improve your flexibility at your own pace and\, in the process\, release tension.  We will work on a variety of Dao Yin exercises with traditional themes and on even-paced\, Yang style\, Tai Chi. (Optional session – Fan Form) \n\n \n
URL:https://www.leisurecourses.net/course/a-weekend-of-tai-chi-and-dao-yin/
LOCATION:Knuston Hall\, Knuston Hall \, Irchester\, Wellingborough \, Northamptonshire \, NN29 7EU\, United Kingdom
CATEGORIES:Personal Development
ORGANIZER;CN="Knuston%20Hall":MAILTO:enquiries@knustonhall.org.uk
END:VEVENT
END:VCALENDAR