BEGIN:VCALENDAR
VERSION:2.0
PRODID:-//LeisureCourses.net - short courses &amp; residential study breaks in great locations - ECPv4.9.6//NONSGML v1.0//EN
CALSCALE:GREGORIAN
METHOD:PUBLISH
X-WR-CALNAME:LeisureCourses.net - short courses &amp; residential study breaks in great locations
X-ORIGINAL-URL:https://www.leisurecourses.net
X-WR-CALDESC:Events for LeisureCourses.net - short courses &amp; residential study breaks in great locations
BEGIN:VTIMEZONE
TZID:"Europe/Paris"
BEGIN:DAYLIGHT
TZOFFSETFROM:+0100
TZOFFSETTO:+0200
TZNAME:CEST
DTSTART:20160327T010000
END:DAYLIGHT
BEGIN:STANDARD
TZOFFSETFROM:+0200
TZOFFSETTO:+0100
TZNAME:CET
DTSTART:20161030T010000
END:STANDARD
END:VTIMEZONE
BEGIN:VEVENT
DTSTART;TZID="Europe/Paris":20160227T100000
DTEND;TZID="Europe/Paris":20160227T170000
DTSTAMP:20260421T133835
CREATED:20160111T111147Z
LAST-MODIFIED:20160111T120240Z
UID:19930-1456567200-1456592400@www.leisurecourses.net
SUMMARY:Achieving Colour Harmony using Acrylics
DESCRIPTION:\nExplore exciting ways to implement colour theory in a practical “hands on” course focused on colour mixing in the context of acrylic and oil painting. Demonstrations and guidance by a professional artist makes the course suitable for all artistic ability levels. \n\n \n
URL:https://www.leisurecourses.net/course/achieving-colour-harmony-using-acrylics/
LOCATION:Missenden Abbey\, Great Missenden\, Buckinghamshire\, HP16 0BD\, United Kingdom
CATEGORIES:Painting
ORGANIZER;CN="Buckinghamshire%20Adult%20Learning":MAILTO:dcevreham@buckscc.gov.uk
END:VEVENT
END:VCALENDAR