BEGIN:VCALENDAR
VERSION:2.0
PRODID:-//LeisureCourses.net - short courses &amp; residential study breaks in great locations - ECPv4.9.6//NONSGML v1.0//EN
CALSCALE:GREGORIAN
METHOD:PUBLISH
X-WR-CALNAME:LeisureCourses.net - short courses &amp; residential study breaks in great locations
X-ORIGINAL-URL:https://www.leisurecourses.net
X-WR-CALDESC:Events for LeisureCourses.net - short courses &amp; residential study breaks in great locations
BEGIN:VTIMEZONE
TZID:"Europe/Paris"
BEGIN:DAYLIGHT
TZOFFSETFROM:+0100
TZOFFSETTO:+0200
TZNAME:CEST
DTSTART:20160327T010000
END:DAYLIGHT
BEGIN:STANDARD
TZOFFSETFROM:+0200
TZOFFSETTO:+0100
TZNAME:CET
DTSTART:20161030T010000
END:STANDARD
END:VTIMEZONE
BEGIN:VEVENT
DTSTART;TZID="Europe/Paris":20160510T090000
DTEND;TZID="Europe/Paris":20160524T160000
DTSTAMP:20260420T002613
CREATED:20160218T160103Z
LAST-MODIFIED:20160219T104654Z
UID:20838-1462870800-1464105600@www.leisurecourses.net
SUMMARY:An Introduction to Designing Your Own Garden
DESCRIPTION:\nThis classroom based course\, which runs over three consecutive s\, provides an opportunity to improve and refresh your garden with support and help from a professional garden designer. You will learn\, step by step\, how to redesign your own plot. The course will begin with basic principles and go on to consider choosing the right plants. By the end of the course you will have produced a new design\, to scale\, for your garden. No previous experience is required but you must have a garden on which to base your work. \n\n \n
URL:https://www.leisurecourses.net/course/an-introduction-to-designing-your-own-garden/
LOCATION:Dillington\, Dillington House\, Ilminster\, Somerset\, TA19 9DT\, United Kingdom
CATEGORIES:General
ORGANIZER;CN="Dillington":MAILTO:dillington@somerset.gov.uk	
END:VEVENT
END:VCALENDAR