BEGIN:VCALENDAR
VERSION:2.0
PRODID:-//LeisureCourses.net - short courses &amp; residential study breaks in great locations - ECPv4.9.6//NONSGML v1.0//EN
CALSCALE:GREGORIAN
METHOD:PUBLISH
X-WR-CALNAME:LeisureCourses.net - short courses &amp; residential study breaks in great locations
X-ORIGINAL-URL:https://www.leisurecourses.net
X-WR-CALDESC:Events for LeisureCourses.net - short courses &amp; residential study breaks in great locations
BEGIN:VTIMEZONE
TZID:"Europe/Paris"
BEGIN:DAYLIGHT
TZOFFSETFROM:+0100
TZOFFSETTO:+0200
TZNAME:CEST
DTSTART:20160327T010000
END:DAYLIGHT
BEGIN:STANDARD
TZOFFSETFROM:+0200
TZOFFSETTO:+0100
TZNAME:CET
DTSTART:20161030T010000
END:STANDARD
END:VTIMEZONE
BEGIN:VEVENT
DTSTART;TZID="Europe/Paris":20160215T000000
DTEND;TZID="Europe/Paris":20160403T000000
DTSTAMP:20260420T031110
CREATED:20160129T125422Z
LAST-MODIFIED:20160129T170936Z
UID:20247-1455494400-1459641600@www.leisurecourses.net
SUMMARY:An introduction to international development: understanding contemporary issues and themes (online)
DESCRIPTION:\nThis online course is designed to introduce students to the field of international development. Participants will develop knowledge of contemporary issues and themes\, such as poverty and livelihoods\, global food security\, aid\, urbanisation\, and sustainable development\, and will be encouraged to think critically in looking at a variety of case studies and examples of international development from around the world. The course will be interactive in nature\, combining discussion forums\, real-time one-to-one and group discussions and an online interactive seminar. \n\n \n
URL:https://www.leisurecourses.net/course/an-introduction-to-international-development-understanding-contemporary-issues-and-themes-online/
LOCATION:Madingley Hall\, Madingley Hall\,\, Madingley\, Cambridgeshire\, CB23 8AQ\, United Kingdom
CATEGORIES:Other
ORGANIZER;CN="University%20of%20Cambridge%20Institute%20of%20Continuing%20Education":MAILTO:enquiries@ice.cam.ac.uk
END:VEVENT
END:VCALENDAR