BEGIN:VCALENDAR
VERSION:2.0
PRODID:-//LeisureCourses.net - short courses &amp; residential study breaks in great locations - ECPv4.9.6//NONSGML v1.0//EN
CALSCALE:GREGORIAN
METHOD:PUBLISH
X-WR-CALNAME:LeisureCourses.net - short courses &amp; residential study breaks in great locations
X-ORIGINAL-URL:https://www.leisurecourses.net
X-WR-CALDESC:Events for LeisureCourses.net - short courses &amp; residential study breaks in great locations
BEGIN:VTIMEZONE
TZID:"Europe/Paris"
BEGIN:DAYLIGHT
TZOFFSETFROM:+0100
TZOFFSETTO:+0200
TZNAME:CEST
DTSTART:20160327T010000
END:DAYLIGHT
BEGIN:STANDARD
TZOFFSETFROM:+0200
TZOFFSETTO:+0100
TZNAME:CET
DTSTART:20161030T010000
END:STANDARD
END:VTIMEZONE
BEGIN:VEVENT
DTSTART;TZID="Europe/Paris":20160205T201500
DTEND;TZID="Europe/Paris":20160207T124500
DTSTAMP:20260420T062857
CREATED:20160108T111249Z
LAST-MODIFIED:20160111T102657Z
UID:19736-1454703300-1454849100@www.leisurecourses.net
SUMMARY:An Introduction to Stained Glass
DESCRIPTION:\nThis is a practical course suitable for beginners and those who wish to improve their skills. Learn to make a stained glass panel using traditional tools and materials. Students work on their own project with individual guidance from the tutor. Prepared designs are available from the tutor or bring your own. \n\n \n
URL:https://www.leisurecourses.net/course/an-introduction-to-stained-glass/
LOCATION:Missenden Abbey\, Great Missenden\, Buckinghamshire\, HP16 0BD\, United Kingdom
CATEGORIES:Crafts
ORGANIZER;CN="Buckinghamshire%20Adult%20Learning":MAILTO:dcevreham@buckscc.gov.uk
END:VEVENT
END:VCALENDAR