BEGIN:VCALENDAR
VERSION:2.0
PRODID:-//LeisureCourses.net - short courses &amp; residential study breaks in great locations - ECPv4.9.6//NONSGML v1.0//EN
CALSCALE:GREGORIAN
METHOD:PUBLISH
X-WR-CALNAME:LeisureCourses.net - short courses &amp; residential study breaks in great locations
X-ORIGINAL-URL:https://www.leisurecourses.net
X-WR-CALDESC:Events for LeisureCourses.net - short courses &amp; residential study breaks in great locations
BEGIN:VTIMEZONE
TZID:"Europe/Paris"
BEGIN:DAYLIGHT
TZOFFSETFROM:+0100
TZOFFSETTO:+0200
TZNAME:CEST
DTSTART:20160327T010000
END:DAYLIGHT
BEGIN:STANDARD
TZOFFSETFROM:+0200
TZOFFSETTO:+0100
TZNAME:CET
DTSTART:20161030T010000
END:STANDARD
END:VTIMEZONE
BEGIN:VEVENT
DTSTART;TZID="Europe/Paris":20160219T190000
DTEND;TZID="Europe/Paris":20160221T140000
DTSTAMP:20260420T024520
CREATED:20160129T125422Z
LAST-MODIFIED:20160129T170258Z
UID:20251-1455908400-1456063200@www.leisurecourses.net
SUMMARY:Ancient cultures of South America
DESCRIPTION:\nThe Inka Empire (AD 1400-1532) ruled 10 million subjects across five countries without written language or the wheel. But how did they do it? If you want to learn about the cultural richness of the ancient world of Peru\, then this course is for you. We will discuss pre-Columbian kingdoms\, warfare\, sacrifice and ritual\, death and mummification\, skilled artisans and craftsmanship\, and the ability to survive in places of extreme environmental conditions. \n\n \n
URL:https://www.leisurecourses.net/course/ancient-cultures-of-south-america/
LOCATION:Madingley Hall\, Madingley Hall\,\, Madingley\, Cambridgeshire\, CB23 8AQ\, United Kingdom
CATEGORIES:History
ORGANIZER;CN="University%20of%20Cambridge%20Institute%20of%20Continuing%20Education":MAILTO:enquiries@ice.cam.ac.uk
END:VEVENT
END:VCALENDAR