BEGIN:VCALENDAR
VERSION:2.0
PRODID:-//LeisureCourses.net - short courses &amp; residential study breaks in great locations - ECPv4.9.6//NONSGML v1.0//EN
CALSCALE:GREGORIAN
METHOD:PUBLISH
X-WR-CALNAME:LeisureCourses.net - short courses &amp; residential study breaks in great locations
X-ORIGINAL-URL:https://www.leisurecourses.net
X-WR-CALDESC:Events for LeisureCourses.net - short courses &amp; residential study breaks in great locations
BEGIN:VTIMEZONE
TZID:"Europe/Paris"
BEGIN:DAYLIGHT
TZOFFSETFROM:+0100
TZOFFSETTO:+0200
TZNAME:CEST
DTSTART:20150329T010000
END:DAYLIGHT
BEGIN:STANDARD
TZOFFSETFROM:+0200
TZOFFSETTO:+0100
TZNAME:CET
DTSTART:20151025T010000
END:STANDARD
END:VTIMEZONE
BEGIN:VEVENT
DTSTART;TZID="Europe/Paris":20150904T160000
DTEND;TZID="Europe/Paris":20150906T140000
DTSTAMP:20260421T133922
CREATED:20150705T073616Z
LAST-MODIFIED:20150705T073616Z
UID:16157-1441382400-1441548000@www.leisurecourses.net
SUMMARY:Antiques and Collectables
DESCRIPTION:\nMission Impottable. Delft\, porcelain\, bone china\, ironstone – these ceramic terms are bandied about until our heads are spinning. Our mission\, should we choose to accept it\, is to explore their nature and put them into historical context. Including a car boot challenge and information on taking a stall\, this course is hands on and hilarious! \nAddicted to antiques? Really rate retro? Is your dream to dabble in dealing? If you are nodding to any of these this is the course for you. In the slide assisted lecture ‘Mission Impottable’ we track the development of British ceramics and clarify the difference between the various bodies and glazes. There is an opportunity to handle and examine a range of pieces to assist the learning. You are invited to be a dealer for the day in our specially devised car boot sale\, after which we discuss taking a stall at an antique fair or flea market. Students are invited to bring a piece to show the class\, the theme is nostalgia. \nFor bookings please call 01865 391991 or go to the website www.denman.org.uk \n  \n  \n\n \n
URL:https://www.leisurecourses.net/course/antiques-collectables-2/
LOCATION:Denman\, Denman \, Abingdon\, Oxfordshire\, OX13 6NW\, United Kingdom
CATEGORIES:Art Appreciation,General Interest
ORGANIZER;CN="Denman":MAILTO:info@denman.org.uk
END:VEVENT
END:VCALENDAR