BEGIN:VCALENDAR
VERSION:2.0
PRODID:-//LeisureCourses.net - short courses &amp; residential study breaks in great locations - ECPv4.9.6//NONSGML v1.0//EN
CALSCALE:GREGORIAN
METHOD:PUBLISH
X-WR-CALNAME:LeisureCourses.net - short courses &amp; residential study breaks in great locations
X-ORIGINAL-URL:https://www.leisurecourses.net
X-WR-CALDESC:Events for LeisureCourses.net - short courses &amp; residential study breaks in great locations
BEGIN:VTIMEZONE
TZID:"Europe/Paris"
BEGIN:DAYLIGHT
TZOFFSETFROM:+0100
TZOFFSETTO:+0200
TZNAME:CEST
DTSTART:20160327T010000
END:DAYLIGHT
BEGIN:STANDARD
TZOFFSETFROM:+0200
TZOFFSETTO:+0100
TZNAME:CET
DTSTART:20161030T010000
END:STANDARD
END:VTIMEZONE
BEGIN:VEVENT
DTSTART;TZID="Europe/Paris":20160815T090000
DTEND;TZID="Europe/Paris":20160819T160000
DTSTAMP:20260420T010132
CREATED:20160218T160114Z
LAST-MODIFIED:20160219T090454Z
UID:20904-1471251600-1471622400@www.leisurecourses.net
SUMMARY:Antiques Repair Workshop
DESCRIPTION:\nThis practical and enjoyable five day course will give you an opportunity to participate and learn from an expert ‘everything you ever wanted to know about furniture but were afraid to ask’. You will spend each day in the tutor’s own workshop in Wellington where specific problems will be overcome and techniques demonstrated. In addition\, the important question\, ‘Is it really worth repairing?’ will be addressed. The tutor will provide examples and demonstrations but please bring with you a small piece of furniture in need of some repair. Please note you will need to make your own way to the tutor’s studio each day where lunch and refreshments will be provided by the wonderful Mrs Coray. \n\n \n
URL:https://www.leisurecourses.net/course/antiques-repair-workshop/
LOCATION:Dillington\, Dillington House\, Ilminster\, Somerset\, TA19 9DT\, United Kingdom
CATEGORIES:Crafts
ORGANIZER;CN="Dillington":MAILTO:dillington@somerset.gov.uk	
END:VEVENT
END:VCALENDAR