BEGIN:VCALENDAR
VERSION:2.0
PRODID:-//LeisureCourses.net - short courses &amp; residential study breaks in great locations - ECPv4.9.6//NONSGML v1.0//EN
CALSCALE:GREGORIAN
METHOD:PUBLISH
X-WR-CALNAME:LeisureCourses.net - short courses &amp; residential study breaks in great locations
X-ORIGINAL-URL:https://www.leisurecourses.net
X-WR-CALDESC:Events for LeisureCourses.net - short courses &amp; residential study breaks in great locations
BEGIN:VTIMEZONE
TZID:"Europe/Paris"
BEGIN:DAYLIGHT
TZOFFSETFROM:+0100
TZOFFSETTO:+0200
TZNAME:CEST
DTSTART:20140330T010000
END:DAYLIGHT
BEGIN:STANDARD
TZOFFSETFROM:+0200
TZOFFSETTO:+0100
TZNAME:CET
DTSTART:20141026T010000
END:STANDARD
END:VTIMEZONE
BEGIN:VEVENT
DTSTART;TZID="Europe/Paris":20140411T180000
DTEND;TZID="Europe/Paris":20140413T130000
DTSTAMP:20260420T005841
CREATED:20131212T073150Z
LAST-MODIFIED:20131214T111618Z
UID:5946-1397239200-1397394000@www.leisurecourses.net
SUMMARY:Art & The 1951 Festival of Britain
DESCRIPTION:\nDuring this course we will look at the Festival of Britain during the turbulent year of 1951\, with a particular emphasis on the “60 for ‘51” art competition. In addition to the Festival arts and murals\, using films\, books\, theatre\, radio and television\, we will also place the Festival in terms of the cultural\, historical and political events of the time. All-comers welcome. \n\n \n
URL:https://www.leisurecourses.net/course/art-1951-festival-britain/
LOCATION:Dillington\, Dillington House\, Ilminster\, Somerset\, TA19 9DT\, United Kingdom
CATEGORIES:Art Appreciation
ORGANIZER;CN="Dillington":MAILTO:dillington@somerset.gov.uk	
END:VEVENT
END:VCALENDAR