BEGIN:VCALENDAR
VERSION:2.0
PRODID:-//LeisureCourses.net - short courses &amp; residential study breaks in great locations - ECPv4.9.6//NONSGML v1.0//EN
CALSCALE:GREGORIAN
METHOD:PUBLISH
X-WR-CALNAME:LeisureCourses.net - short courses &amp; residential study breaks in great locations
X-ORIGINAL-URL:https://www.leisurecourses.net
X-WR-CALDESC:Events for LeisureCourses.net - short courses &amp; residential study breaks in great locations
BEGIN:VTIMEZONE
TZID:"Europe/Paris"
BEGIN:DAYLIGHT
TZOFFSETFROM:+0100
TZOFFSETTO:+0200
TZNAME:CEST
DTSTART:20140330T010000
END:DAYLIGHT
BEGIN:STANDARD
TZOFFSETFROM:+0200
TZOFFSETTO:+0100
TZNAME:CET
DTSTART:20141026T010000
END:STANDARD
END:VTIMEZONE
BEGIN:VEVENT
DTSTART;TZID="Europe/Paris":20140911T170000
DTEND;TZID="Europe/Paris":20140914T150000
DTSTAMP:20260419T225223
CREATED:20140803T085402Z
LAST-MODIFIED:20140803T085402Z
UID:6903-1410454800-1410706800@www.leisurecourses.net
SUMMARY:Autumnal Landscapes using Acrylic - Painting Course with Colin Steed
DESCRIPTION:\nThis three day course is for anyone who has painted with acrylic before and would like to improve their technique when painting autumn landscapes. \nSubjects will be taken from Shorland Old Farm buildings and extensive woodlands and grounds\, working in the studio\, and outdoors when weather permits. Demonstrations will be given throughout the weekend along with plenty of individual tuition when students are painting their own subjects. Students will take home new ideas and techniques that will enable them to make real progress when painting acrylic landscapes \n\n \n
URL:https://www.leisurecourses.net/course/autumnal-landscapes-acrylic-painting-colin-steed/
LOCATION:Shorland Old Farm\, Barton Lane\, Challacombe\, Devon\, EX31 4UB\, United Kingdom
CATEGORIES:Painting and Drawing
END:VEVENT
END:VCALENDAR