BEGIN:VCALENDAR
VERSION:2.0
PRODID:-//LeisureCourses.net - short courses &amp; residential study breaks in great locations - ECPv4.9.6//NONSGML v1.0//EN
CALSCALE:GREGORIAN
METHOD:PUBLISH
X-WR-CALNAME:LeisureCourses.net - short courses &amp; residential study breaks in great locations
X-ORIGINAL-URL:https://www.leisurecourses.net
X-WR-CALDESC:Events for LeisureCourses.net - short courses &amp; residential study breaks in great locations
BEGIN:VTIMEZONE
TZID:"Europe/Paris"
BEGIN:DAYLIGHT
TZOFFSETFROM:+0100
TZOFFSETTO:+0200
TZNAME:CEST
DTSTART:20170326T010000
END:DAYLIGHT
BEGIN:STANDARD
TZOFFSETFROM:+0200
TZOFFSETTO:+0100
TZNAME:CET
DTSTART:20171029T010000
END:STANDARD
END:VTIMEZONE
BEGIN:VEVENT
DTSTART;TZID="Europe/Paris":20170501T083000
DTEND;TZID="Europe/Paris":20170505T053000
DTSTAMP:20260420T091003
CREATED:20170113T091308Z
LAST-MODIFIED:20170113T094002Z
UID:25383-1493627400-1493962200@www.leisurecourses.net
SUMMARY:Basic Woodworking 3
DESCRIPTION:\nLearn basic routing and wood bending and expand your dovetailing skills. You will make a curved\, dovetailed box to take home. To join you should be practically minded with a little woodworking experience. This course builds on skills learned in ‘Basic Woodworking 1 and 2’. \n\n \n
URL:https://www.leisurecourses.net/course/basic-woodworking-3/
LOCATION:Boat Building Academy\, Lyme Regis Marine Centre\, Monmouth Beach \, Lyme Regis\, Dorset\, DT7 3JN\, United Kingdom
CATEGORIES:Woodwork
ORGANIZER;CN="Boat%20Building%20Academy":MAILTO:office@boatbuildingacademy.com
END:VEVENT
END:VCALENDAR