BEGIN:VCALENDAR
VERSION:2.0
PRODID:-//LeisureCourses.net - short courses &amp; residential study breaks in great locations - ECPv4.9.6//NONSGML v1.0//EN
CALSCALE:GREGORIAN
METHOD:PUBLISH
X-WR-CALNAME:LeisureCourses.net - short courses &amp; residential study breaks in great locations
X-ORIGINAL-URL:https://www.leisurecourses.net
X-WR-CALDESC:Events for LeisureCourses.net - short courses &amp; residential study breaks in great locations
BEGIN:VTIMEZONE
TZID:"Europe/Paris"
BEGIN:DAYLIGHT
TZOFFSETFROM:+0100
TZOFFSETTO:+0200
TZNAME:CEST
DTSTART:20160327T010000
END:DAYLIGHT
BEGIN:STANDARD
TZOFFSETFROM:+0200
TZOFFSETTO:+0100
TZNAME:CET
DTSTART:20161030T010000
END:STANDARD
END:VTIMEZONE
BEGIN:VEVENT
DTSTART;TZID="Europe/Paris":20160409T100000
DTEND;TZID="Europe/Paris":20160409T164500
DTSTAMP:20260420T005840
CREATED:20160129T125426Z
LAST-MODIFIED:20160129T152656Z
UID:20288-1460196000-1460220300@www.leisurecourses.net
SUMMARY:Beginners' French: Meet the French
DESCRIPTION:\nWanting to improve your communication skills? This course will give you the opportunity of practising your French no matter how rusty or hesitant. Get an insight into the life and personality of a few French celebrities and also learn how to engage with people you meet in everyday situations. The course is conducted entirely in French using interactive teaching methods and visual material (A1/A2 level\, according to the Common European Framework of Reference for Languages). \n\n \n
URL:https://www.leisurecourses.net/course/beginners-french-meet-the-french/
LOCATION:Madingley Hall\, Madingley Hall\,\, Madingley\, Cambridgeshire\, CB23 8AQ\, United Kingdom
CATEGORIES:Languages
ORGANIZER;CN="University%20of%20Cambridge%20Institute%20of%20Continuing%20Education":MAILTO:enquiries@ice.cam.ac.uk
END:VEVENT
END:VCALENDAR