BEGIN:VCALENDAR
VERSION:2.0
PRODID:-//LeisureCourses.net - short courses &amp; residential study breaks in great locations - ECPv4.9.6//NONSGML v1.0//EN
CALSCALE:GREGORIAN
METHOD:PUBLISH
X-WR-CALNAME:LeisureCourses.net - short courses &amp; residential study breaks in great locations
X-ORIGINAL-URL:https://www.leisurecourses.net
X-WR-CALDESC:Events for LeisureCourses.net - short courses &amp; residential study breaks in great locations
BEGIN:VTIMEZONE
TZID:"Europe/Paris"
BEGIN:DAYLIGHT
TZOFFSETFROM:+0100
TZOFFSETTO:+0200
TZNAME:CEST
DTSTART:20160327T010000
END:DAYLIGHT
BEGIN:STANDARD
TZOFFSETFROM:+0200
TZOFFSETTO:+0100
TZNAME:CET
DTSTART:20161030T010000
END:STANDARD
END:VTIMEZONE
BEGIN:VEVENT
DTSTART;TZID="Europe/Paris":20160129T201500
DTEND;TZID="Europe/Paris":20160131T124500
DTSTAMP:20260421T110838
CREATED:20160111T111149Z
LAST-MODIFIED:20160111T121541Z
UID:19949-1454098500-1454244300@www.leisurecourses.net
SUMMARY:Belgian and other European Laces
DESCRIPTION:\nFor experienced learners and those new to lace making who are able to work the basic stitches and want to learn the mysteries of the European laces. These include Brugge Bloemwerk\, Flanders\, Binche Parijse\, Valenciennes\, Chantilly\, Idrija and Tonder. Many are taught with the aid of colour-coded diagrams. \n\n \n
URL:https://www.leisurecourses.net/course/belgian-and-other-european-laces/
LOCATION:Missenden Abbey\, Great Missenden\, Buckinghamshire\, HP16 0BD\, United Kingdom
CATEGORIES:Crafts
ORGANIZER;CN="Buckinghamshire%20Adult%20Learning":MAILTO:dcevreham@buckscc.gov.uk
END:VEVENT
END:VCALENDAR