BEGIN:VCALENDAR
VERSION:2.0
PRODID:-//LeisureCourses.net - short courses &amp; residential study breaks in great locations - ECPv4.9.6//NONSGML v1.0//EN
CALSCALE:GREGORIAN
METHOD:PUBLISH
X-WR-CALNAME:LeisureCourses.net - short courses &amp; residential study breaks in great locations
X-ORIGINAL-URL:https://www.leisurecourses.net
X-WR-CALDESC:Events for LeisureCourses.net - short courses &amp; residential study breaks in great locations
BEGIN:VTIMEZONE
TZID:"Europe/Paris"
BEGIN:DAYLIGHT
TZOFFSETFROM:+0100
TZOFFSETTO:+0200
TZNAME:CEST
DTSTART:20130331T010000
END:DAYLIGHT
BEGIN:STANDARD
TZOFFSETFROM:+0200
TZOFFSETTO:+0100
TZNAME:CET
DTSTART:20131027T010000
END:STANDARD
END:VTIMEZONE
BEGIN:VEVENT
DTSTART;TZID="Europe/Paris":20131206T180000
DTEND;TZID="Europe/Paris":20131208T100000
DTSTAMP:20260419T205242
CREATED:20130818T063857Z
LAST-MODIFIED:20130822T124759Z
UID:4237-1386352800-1386496800@www.leisurecourses.net
SUMMARY:Blues II weekend - How to play better Blues and Slide guitar\, the original and best 
DESCRIPTION:\nYou have to come on a standard Blues weekend first before coming on this one. \n\nWe have another fresh look at the material covered on your first blues weekend and see how much you have retained. Take a look at any problems you’ve had.\nAnother look at improvisation and how you can further improve your lead playing skills. You will get plenty of chance to try your skills out.\nWe still look at both acoustic and electric playing.\nDevelop your practice regime even further with ways guaranteed to improve your playing.\nA lot of practical workshops where you do the playing and work on projects.\nAdd some more scales into your toolbox in order to improve your improvising skills. Including a look at some modal scales.\nA look at the playing style of Robben Ford together with chords and scales used by him.\nAnother look at slide playing with a more practical hands on approach than the first blues weekend.\nSaturday night project where we will record the culminating tunes produced by the two groups.\nPlease have a look at the material from the first Blues weekend and go through it again. Any problems then email us.\nAgain this will be a social weekend as well with old friends returning to meet up again.\n\nIf you want advice please ring us on 0844 272 4433 \n\n \n
URL:https://www.leisurecourses.net/course/blues-ii-weekend-play-blues-slide-guitar-original/
LOCATION:The Westmorland Hotel\, Westmorland Place\, Orton\, Penrith\, Cumbria\, CA10 3SB\, United Kingdom
CATEGORIES:Music
ATTACH;FMTTYPE=image/jpeg:https://www.leisurecourses.net/wp-content/uploads/bluesdec.jpg
ORGANIZER;CN="Guitar%20Weekends":MAILTO:info@guitarweekends.co.uk
END:VEVENT
END:VCALENDAR