BEGIN:VCALENDAR
VERSION:2.0
PRODID:-//LeisureCourses.net - short courses &amp; residential study breaks in great locations - ECPv4.9.6//NONSGML v1.0//EN
CALSCALE:GREGORIAN
METHOD:PUBLISH
X-WR-CALNAME:LeisureCourses.net - short courses &amp; residential study breaks in great locations
X-ORIGINAL-URL:https://www.leisurecourses.net
X-WR-CALDESC:Events for LeisureCourses.net - short courses &amp; residential study breaks in great locations
BEGIN:VTIMEZONE
TZID:"Europe/Paris"
BEGIN:DAYLIGHT
TZOFFSETFROM:+0100
TZOFFSETTO:+0200
TZNAME:CEST
DTSTART:20160327T010000
END:DAYLIGHT
BEGIN:STANDARD
TZOFFSETFROM:+0200
TZOFFSETTO:+0100
TZNAME:CET
DTSTART:20161030T010000
END:STANDARD
END:VTIMEZONE
BEGIN:VEVENT
DTSTART;TZID="Europe/Paris":20160418T150000
DTEND;TZID="Europe/Paris":20160421T140000
DTSTAMP:20260420T012620
CREATED:20160218T160102Z
LAST-MODIFIED:20160219T105707Z
UID:20830-1460991600-1461247200@www.leisurecourses.net
SUMMARY:Britain's Industrial Heritage
DESCRIPTION:\nThis course showcases aspects of Britain’s rich industrial heritage\, from Cheshire to Aberdeen\, Derbyshire\, Lincolnshire and the Isle of Man. Typical sites include textile mills\, water and wind mills\, railways\, canals\, mines\, limekilns\, cement works\, breweries\, maltings\, salt works and ports\, but often the smallest industries are the most fascinating. There is a field visit to local sites and the course concludes with a European viewpoint. All-comers welcome but please note we will be walking over rough and uneven ground during the visit. \n\n \n
URL:https://www.leisurecourses.net/course/britains-industrial-heritage/
LOCATION:Dillington\, Dillington House\, Ilminster\, Somerset\, TA19 9DT\, United Kingdom
CATEGORIES:History
ORGANIZER;CN="Dillington":MAILTO:dillington@somerset.gov.uk	
END:VEVENT
END:VCALENDAR