BEGIN:VCALENDAR
VERSION:2.0
PRODID:-//LeisureCourses.net - short courses &amp; residential study breaks in great locations - ECPv4.9.6//NONSGML v1.0//EN
CALSCALE:GREGORIAN
METHOD:PUBLISH
X-WR-CALNAME:LeisureCourses.net - short courses &amp; residential study breaks in great locations
X-ORIGINAL-URL:https://www.leisurecourses.net
X-WR-CALDESC:Events for LeisureCourses.net - short courses &amp; residential study breaks in great locations
BEGIN:VTIMEZONE
TZID:"Europe/Paris"
BEGIN:DAYLIGHT
TZOFFSETFROM:+0100
TZOFFSETTO:+0200
TZNAME:CEST
DTSTART:20160327T010000
END:DAYLIGHT
BEGIN:STANDARD
TZOFFSETFROM:+0200
TZOFFSETTO:+0100
TZNAME:CET
DTSTART:20161030T010000
END:STANDARD
END:VTIMEZONE
BEGIN:VEVENT
DTSTART;TZID="Europe/Paris":20160718T150000
DTEND;TZID="Europe/Paris":20160721T140000
DTSTAMP:20260420T025315
CREATED:20160218T160110Z
LAST-MODIFIED:20160219T100008Z
UID:20873-1468854000-1469109600@www.leisurecourses.net
SUMMARY:By George' - The Whirlwind Musical Life of George Gershwin
DESCRIPTION:\nRaised on the overcrowded Lower East Side of New York\, young George Gershwin had a life on the streets as roller-skating champion and often skipped school for secret piano lessons from an aunt. Working his way into ‘Tin Pan Alley’ as a song plugger\, he had his own first hit at the age of 21 with the song Swanee. He went on to write hundreds of songs for stage and film as well as orchestral pieces and his magnum opus Porgy & Bess\, first staged in 1935\, less than two years before Gershwin’s death. All-comers welcome. \n\n \n
URL:https://www.leisurecourses.net/course/by-george-the-whirlwind-musical-life-of-george-gershwin/
LOCATION:Dillington\, Dillington House\, Ilminster\, Somerset\, TA19 9DT\, United Kingdom
CATEGORIES:Music Appreciation
ORGANIZER;CN="Dillington":MAILTO:dillington@somerset.gov.uk	
END:VEVENT
END:VCALENDAR