BEGIN:VCALENDAR
VERSION:2.0
PRODID:-//LeisureCourses.net - short courses &amp; residential study breaks in great locations - ECPv4.9.6//NONSGML v1.0//EN
CALSCALE:GREGORIAN
METHOD:PUBLISH
X-WR-CALNAME:LeisureCourses.net - short courses &amp; residential study breaks in great locations
X-ORIGINAL-URL:https://www.leisurecourses.net
X-WR-CALDESC:Events for LeisureCourses.net - short courses &amp; residential study breaks in great locations
BEGIN:VTIMEZONE
TZID:"Europe/Paris"
BEGIN:DAYLIGHT
TZOFFSETFROM:+0100
TZOFFSETTO:+0200
TZNAME:CEST
DTSTART:20160327T010000
END:DAYLIGHT
BEGIN:STANDARD
TZOFFSETFROM:+0200
TZOFFSETTO:+0100
TZNAME:CET
DTSTART:20161030T010000
END:STANDARD
END:VTIMEZONE
BEGIN:VEVENT
DTSTART;TZID="Europe/Paris":20160828T190000
DTEND;TZID="Europe/Paris":20160902T150000
DTSTAMP:20260420T012020
CREATED:20160307T143323Z
LAST-MODIFIED:20160307T160718Z
UID:21346-1472410800-1472828400@www.leisurecourses.net
SUMMARY:Calligraphy and Composition Week
DESCRIPTION:\nLearn and improve your calligraphy – decorative capitals and numbers\, layout and composition. Depending on time and experience\, you may select the projects you would like to make: Greeting cards; calendars; favourite quotes; pen marks to picture; combining illustration with text; pen-made borders; words from the heart. Play with masking/resist/scarffitto\, graduated textures\, metallic materials and collage. All levels are welcome.  This course may be continued with more depth and individual help by enrolling for the Sunday to Friday course code J714. \nThis course may be continued with more depth and individual help by enrolling for the Friday to Sunday course code J538. \n\n \n
URL:https://www.leisurecourses.net/course/calligraphy-and-composition-week/
LOCATION:Knuston Hall\, Knuston Hall \, Irchester\, Wellingborough \, Northamptonshire \, NN29 7EU\, United Kingdom
CATEGORIES:Crafts
ORGANIZER;CN="Knuston%20Hall":MAILTO:enquiries@knustonhall.org.uk
END:VEVENT
END:VCALENDAR