BEGIN:VCALENDAR
VERSION:2.0
PRODID:-//LeisureCourses.net - short courses &amp; residential study breaks in great locations - ECPv4.9.6//NONSGML v1.0//EN
CALSCALE:GREGORIAN
METHOD:PUBLISH
X-WR-CALNAME:LeisureCourses.net - short courses &amp; residential study breaks in great locations
X-ORIGINAL-URL:https://www.leisurecourses.net
X-WR-CALDESC:Events for LeisureCourses.net - short courses &amp; residential study breaks in great locations
BEGIN:VTIMEZONE
TZID:"Europe/Paris"
BEGIN:DAYLIGHT
TZOFFSETFROM:+0100
TZOFFSETTO:+0200
TZNAME:CEST
DTSTART:20160327T010000
END:DAYLIGHT
BEGIN:STANDARD
TZOFFSETFROM:+0200
TZOFFSETTO:+0100
TZNAME:CET
DTSTART:20161030T010000
END:STANDARD
END:VTIMEZONE
BEGIN:VEVENT
DTSTART;TZID="Europe/Paris":20160219T190000
DTEND;TZID="Europe/Paris":20160221T140000
DTSTAMP:20260420T024619
CREATED:20160129T125422Z
LAST-MODIFIED:20160129T170349Z
UID:20252-1455908400-1456063200@www.leisurecourses.net
SUMMARY:Cambridge wives: influential women in Victorian Cambridge
DESCRIPTION:\nCambridge society changed dramatically after 1882 when College Fellows were allowed to be married. The group of wives formed a new society and became pioneers in their own right in education\, mental health care and the suffrage movement. Their achievements show how the Victorian idea of a wife as an ‘angel in the house’ was very different from the reality. \n\n \n
URL:https://www.leisurecourses.net/course/cambridge-wives-influential-women-in-victorian-cambridge/
LOCATION:Madingley Hall\, Madingley Hall\,\, Madingley\, Cambridgeshire\, CB23 8AQ\, United Kingdom
CATEGORIES:History
ORGANIZER;CN="University%20of%20Cambridge%20Institute%20of%20Continuing%20Education":MAILTO:enquiries@ice.cam.ac.uk
END:VEVENT
END:VCALENDAR