BEGIN:VCALENDAR
VERSION:2.0
PRODID:-//LeisureCourses.net - short courses &amp; residential study breaks in great locations - ECPv4.9.6//NONSGML v1.0//EN
CALSCALE:GREGORIAN
METHOD:PUBLISH
X-WR-CALNAME:LeisureCourses.net - short courses &amp; residential study breaks in great locations
X-ORIGINAL-URL:https://www.leisurecourses.net
X-WR-CALDESC:Events for LeisureCourses.net - short courses &amp; residential study breaks in great locations
BEGIN:VTIMEZONE
TZID:"Europe/Paris"
BEGIN:DAYLIGHT
TZOFFSETFROM:+0100
TZOFFSETTO:+0200
TZNAME:CEST
DTSTART:20160327T010000
END:DAYLIGHT
BEGIN:STANDARD
TZOFFSETFROM:+0200
TZOFFSETTO:+0100
TZNAME:CET
DTSTART:20161030T010000
END:STANDARD
END:VTIMEZONE
BEGIN:VEVENT
DTSTART;TZID="Europe/Paris":20160715T160000
DTEND;TZID="Europe/Paris":20160719T160000
DTSTAMP:20260420T115835
CREATED:20160523T103353Z
LAST-MODIFIED:20160523T103353Z
UID:22851-1468598400-1468944000@www.leisurecourses.net
SUMMARY:Create a Singing Bowl Summer School
DESCRIPTION:\nGenerations of smiths and coppersmiths have dedicated their work to the search for the one perfect all-transcending sound. Under Ton’s friendly\, professional supervision you will learn the technique of forging to create your own singing bowl. The rhythm of metal work\, the heat of the forge and the alchemical process of shaping your own instrument in an outdoor studio offers a unique combination of physical and spiritual engagement.  The only residential course in the UK with singing bowls. \nsingle £640; shared £565; non-res £450. Materials extra £25 – £50 \nTon Akkermans is a gifted blacksmith from Holland with extensive knowledge of singing bowls and metal instruments of ancient Tibet. He is assisted during the course and at the concert by his partner Carolina Schomper\, a dancer\, artist and energy worker. A concert and initiation day are offered after the summer school. \n \n\n \n
URL:https://www.leisurecourses.net/course/create-singing-bowl-summer-school/
LOCATION:Hawkwood College\, Painswick Old Road \, Stroud \, Gloucestershire\, GL6 7QW\, United Kingdom
CATEGORIES:Crafts,Making Music,Music
ORGANIZER;CN="Hawkwood%20College":MAILTO:info@hawkwoodcollege.co.uk
END:VEVENT
END:VCALENDAR