BEGIN:VCALENDAR
VERSION:2.0
PRODID:-//LeisureCourses.net - short courses &amp; residential study breaks in great locations - ECPv4.9.6//NONSGML v1.0//EN
CALSCALE:GREGORIAN
METHOD:PUBLISH
X-WR-CALNAME:LeisureCourses.net - short courses &amp; residential study breaks in great locations
X-ORIGINAL-URL:https://www.leisurecourses.net
X-WR-CALDESC:Events for LeisureCourses.net - short courses &amp; residential study breaks in great locations
BEGIN:VTIMEZONE
TZID:"Europe/Paris"
BEGIN:DAYLIGHT
TZOFFSETFROM:+0100
TZOFFSETTO:+0200
TZNAME:CEST
DTSTART:20160327T010000
END:DAYLIGHT
BEGIN:STANDARD
TZOFFSETFROM:+0200
TZOFFSETTO:+0100
TZNAME:CET
DTSTART:20161030T010000
END:STANDARD
END:VTIMEZONE
BEGIN:VEVENT
DTSTART;TZID="Europe/Paris":20160215T000000
DTEND;TZID="Europe/Paris":20160403T000000
DTSTAMP:20260420T024521
CREATED:20160129T125422Z
LAST-MODIFIED:20160129T170839Z
UID:20246-1455494400-1459641600@www.leisurecourses.net
SUMMARY:Creative writing: an introduction to life writing (online)
DESCRIPTION:\nThis course is aimed at anyone who wants to write a biography\, memoir or other form of non-fiction. It will use examples and practical exercises to guide students through the skills needed to write interesting non-fiction: research\, editing\, how to tell a story and ways of using discription. Given the nature of creative writing\, it is important that students’ use of English is sufficiently fluent to be able to understand in English nuances of meaning and have a familiarity with the structure and grammar of English. \n\n \n
URL:https://www.leisurecourses.net/course/creative-writing-an-introduction-to-life-writing-online/
LOCATION:Madingley Hall\, Madingley Hall\,\, Madingley\, Cambridgeshire\, CB23 8AQ\, United Kingdom
CATEGORIES:Writing
ORGANIZER;CN="University%20of%20Cambridge%20Institute%20of%20Continuing%20Education":MAILTO:enquiries@ice.cam.ac.uk
END:VEVENT
END:VCALENDAR