BEGIN:VCALENDAR
VERSION:2.0
PRODID:-//LeisureCourses.net - short courses &amp; residential study breaks in great locations - ECPv4.9.6//NONSGML v1.0//EN
CALSCALE:GREGORIAN
METHOD:PUBLISH
X-WR-CALNAME:LeisureCourses.net - short courses &amp; residential study breaks in great locations
X-ORIGINAL-URL:https://www.leisurecourses.net
X-WR-CALDESC:Events for LeisureCourses.net - short courses &amp; residential study breaks in great locations
BEGIN:VTIMEZONE
TZID:"Europe/Paris"
BEGIN:DAYLIGHT
TZOFFSETFROM:+0100
TZOFFSETTO:+0200
TZNAME:CEST
DTSTART:20160327T010000
END:DAYLIGHT
BEGIN:STANDARD
TZOFFSETFROM:+0200
TZOFFSETTO:+0100
TZNAME:CET
DTSTART:20161030T010000
END:STANDARD
END:VTIMEZONE
BEGIN:VEVENT
DTSTART;TZID="Europe/Paris":20160624T190000
DTEND;TZID="Europe/Paris":20160626T140000
DTSTAMP:20260419T235411
CREATED:20160129T125435Z
LAST-MODIFIED:20160129T141251Z
UID:20345-1466794800-1466949600@www.leisurecourses.net
SUMMARY:Cyberpsychology: understanding life in the digital era
DESCRIPTION:\nWe live in the digital world where emerging technologies have infiltrated everyday life. Have you ever wondered how our concept of identity has been redefined and how much influence social media has on your decisions? Come and explore the impact of emerging technologies on human behaviour and the future of humans. \n\n \n
URL:https://www.leisurecourses.net/course/cyberpsychology-understanding-life-in-the-digital-era/
LOCATION:Madingley Hall\, Madingley Hall\,\, Madingley\, Cambridgeshire\, CB23 8AQ\, United Kingdom
CATEGORIES:Other
ORGANIZER;CN="University%20of%20Cambridge%20Institute%20of%20Continuing%20Education":MAILTO:enquiries@ice.cam.ac.uk
END:VEVENT
END:VCALENDAR