BEGIN:VCALENDAR
VERSION:2.0
PRODID:-//LeisureCourses.net - short courses &amp; residential study breaks in great locations - ECPv4.9.6//NONSGML v1.0//EN
CALSCALE:GREGORIAN
METHOD:PUBLISH
X-WR-CALNAME:LeisureCourses.net - short courses &amp; residential study breaks in great locations
X-ORIGINAL-URL:https://www.leisurecourses.net
X-WR-CALDESC:Events for LeisureCourses.net - short courses &amp; residential study breaks in great locations
BEGIN:VTIMEZONE
TZID:"Europe/Paris"
BEGIN:DAYLIGHT
TZOFFSETFROM:+0100
TZOFFSETTO:+0200
TZNAME:CEST
DTSTART:20150329T010000
END:DAYLIGHT
BEGIN:STANDARD
TZOFFSETFROM:+0200
TZOFFSETTO:+0100
TZNAME:CET
DTSTART:20151025T010000
END:STANDARD
END:VTIMEZONE
BEGIN:VEVENT
DTSTART;TZID="Europe/Paris":20150328T093000
DTEND;TZID="Europe/Paris":20150328T170000
DTSTAMP:20260419T191240
CREATED:20150214T123544Z
LAST-MODIFIED:20150214T123544Z
UID:11543-1427535000-1427562000@www.leisurecourses.net
SUMMARY:A Day of Raw Chocolate
DESCRIPTION:\nRaw chocolate is packed with antioxidants\, full of magnesium for your heart and choc-a-bloc with happy-boosting natural chemicals. Which means chocolate is good for you! Its intense flavour and exceptionally smooth texture make it a gourmet delight for everyone. \nWe’ll spend the day learning about the history\, its traditional healing uses\, and the many health benefits of organic raw chocolate. We’ll make individual chocolates\, truffles\, desserts and drinks to tickle your taste buds and nourish your soul. You will go home with a recipe book from the day and a goody bag. \nRachana Sequoia of Juiciful is qualified in Nutritional Healing\, works as a raw food chef and runs pop-up raw cafes at festivals and events worldwide. \n  \n\n \n
URL:https://www.leisurecourses.net/course/day-raw-chocolate/
LOCATION:Hawkwood College\, Painswick Old Road \, Stroud \, Gloucestershire\, GL6 7QW\, United Kingdom
CATEGORIES:Cookery
ORGANIZER;CN="Hawkwood%20College":MAILTO:info@hawkwoodcollege.co.uk
END:VEVENT
END:VCALENDAR