BEGIN:VCALENDAR
VERSION:2.0
PRODID:-//LeisureCourses.net - short courses &amp; residential study breaks in great locations - ECPv4.9.6//NONSGML v1.0//EN
CALSCALE:GREGORIAN
METHOD:PUBLISH
X-WR-CALNAME:LeisureCourses.net - short courses &amp; residential study breaks in great locations
X-ORIGINAL-URL:https://www.leisurecourses.net
X-WR-CALDESC:Events for LeisureCourses.net - short courses &amp; residential study breaks in great locations
BEGIN:VTIMEZONE
TZID:"Europe/Paris"
BEGIN:DAYLIGHT
TZOFFSETFROM:+0100
TZOFFSETTO:+0200
TZNAME:CEST
DTSTART:20160327T010000
END:DAYLIGHT
BEGIN:STANDARD
TZOFFSETFROM:+0200
TZOFFSETTO:+0100
TZNAME:CET
DTSTART:20161030T010000
END:STANDARD
END:VTIMEZONE
BEGIN:VEVENT
DTSTART;TZID="Europe/Paris":20160817T090000
DTEND;TZID="Europe/Paris":20160817T160000
DTSTAMP:20260421T114901
CREATED:20160218T160115Z
LAST-MODIFIED:20160219T085730Z
UID:20911-1471424400-1471449600@www.leisurecourses.net
SUMMARY:Denmark: Art\, History & Culture
DESCRIPTION:\nWe look at Denmark’s proud history\, and the way that its empire shrank over the centuries\, including its naval battles with Britain. Art will include Denmark’s ‘Golden Age’ from the early 19th century\, and the paintings of two great women artists\, Bertha Wegmann and Anna Ancher\, as well as the brilliant P. S. Krøyer. Music will feature the cello concerto of Franz Neruda. Plus Hans Christian Andersen and Lego! \n\n \n
URL:https://www.leisurecourses.net/course/denmark-art-history-culture/
LOCATION:Dillington\, Dillington House\, Ilminster\, Somerset\, TA19 9DT\, United Kingdom
CATEGORIES:History
ORGANIZER;CN="Dillington":MAILTO:dillington@somerset.gov.uk	
END:VEVENT
END:VCALENDAR