BEGIN:VCALENDAR
VERSION:2.0
PRODID:-//LeisureCourses.net - short courses &amp; residential study breaks in great locations - ECPv4.9.6//NONSGML v1.0//EN
CALSCALE:GREGORIAN
METHOD:PUBLISH
X-WR-CALNAME:LeisureCourses.net - short courses &amp; residential study breaks in great locations
X-ORIGINAL-URL:https://www.leisurecourses.net
X-WR-CALDESC:Events for LeisureCourses.net - short courses &amp; residential study breaks in great locations
BEGIN:VTIMEZONE
TZID:"Europe/Paris"
BEGIN:DAYLIGHT
TZOFFSETFROM:+0100
TZOFFSETTO:+0200
TZNAME:CEST
DTSTART:20160327T010000
END:DAYLIGHT
BEGIN:STANDARD
TZOFFSETFROM:+0200
TZOFFSETTO:+0100
TZNAME:CET
DTSTART:20161030T010000
END:STANDARD
END:VTIMEZONE
BEGIN:VEVENT
DTSTART;TZID="Europe/Paris":20160814T150000
DTEND;TZID="Europe/Paris":20160820T090000
DTSTAMP:20260421T131406
CREATED:20160218T160114Z
LAST-MODIFIED:20160219T090949Z
UID:20902-1471186800-1471683600@www.leisurecourses.net
SUMMARY:Dillington Summer School Week Two
DESCRIPTION:\nWeek Two offers a programme of full week courses but there is an opportunity to take time out from these and join a day with Dr Jan D. Cox on his Nordic Adventure or Chris Pollard on Spanish Cinema on Wednesday (subject to availability). \n\n \n
URL:https://www.leisurecourses.net/course/dillington-summer-school-week-two/
LOCATION:Dillington\, Dillington House\, Ilminster\, Somerset\, TA19 9DT\, United Kingdom
CATEGORIES:General
ORGANIZER;CN="Dillington":MAILTO:dillington@somerset.gov.uk	
END:VEVENT
END:VCALENDAR