BEGIN:VCALENDAR
VERSION:2.0
PRODID:-//LeisureCourses.net - short courses &amp; residential study breaks in great locations - ECPv4.9.6//NONSGML v1.0//EN
CALSCALE:GREGORIAN
METHOD:PUBLISH
X-WR-CALNAME:LeisureCourses.net - short courses &amp; residential study breaks in great locations
X-ORIGINAL-URL:https://www.leisurecourses.net
X-WR-CALDESC:Events for LeisureCourses.net - short courses &amp; residential study breaks in great locations
BEGIN:VTIMEZONE
TZID:"Europe/Paris"
BEGIN:DAYLIGHT
TZOFFSETFROM:+0100
TZOFFSETTO:+0200
TZNAME:CEST
DTSTART:20160327T010000
END:DAYLIGHT
BEGIN:STANDARD
TZOFFSETFROM:+0200
TZOFFSETTO:+0100
TZNAME:CET
DTSTART:20161030T010000
END:STANDARD
END:VTIMEZONE
BEGIN:VEVENT
DTSTART;TZID="Europe/Paris":20160227T100000
DTEND;TZID="Europe/Paris":20160227T160000
DTSTAMP:20260421T120149
CREATED:20160111T111147Z
LAST-MODIFIED:20160111T120617Z
UID:19931-1456567200-1456588800@www.leisurecourses.net
SUMMARY:Discovery Day Wine Tasting
DESCRIPTION:\nThis one day course\, with 15 great quality wines\, explores how your wine preferences are influenced by your taste buds! Discover why you prefer certain styles and how wine and food work best together. We also cover how to spot common wine faults\, how glass shapes change the way wines taste\, plus tips for ordering at restaurants. Gain the knowledge to drink better wine without spending more! Participants have the option of booking Saturday night dinner\, bed and breakfast at the time of enrolling on the course for an additional £75. \n\n \n
URL:https://www.leisurecourses.net/course/discovery-day-wine-tasting/
LOCATION:Missenden Abbey\, Great Missenden\, Buckinghamshire\, HP16 0BD\, United Kingdom
CATEGORIES:Other
ORGANIZER;CN="Buckinghamshire%20Adult%20Learning":MAILTO:dcevreham@buckscc.gov.uk
END:VEVENT
END:VCALENDAR