BEGIN:VCALENDAR
VERSION:2.0
PRODID:-//LeisureCourses.net - short courses &amp; residential study breaks in great locations - ECPv4.9.6//NONSGML v1.0//EN
CALSCALE:GREGORIAN
METHOD:PUBLISH
X-WR-CALNAME:LeisureCourses.net - short courses &amp; residential study breaks in great locations
X-ORIGINAL-URL:https://www.leisurecourses.net
X-WR-CALDESC:Events for LeisureCourses.net - short courses &amp; residential study breaks in great locations
BEGIN:VTIMEZONE
TZID:"Europe/Paris"
BEGIN:DAYLIGHT
TZOFFSETFROM:+0100
TZOFFSETTO:+0200
TZNAME:CEST
DTSTART:20140330T010000
END:DAYLIGHT
BEGIN:STANDARD
TZOFFSETFROM:+0200
TZOFFSETTO:+0100
TZNAME:CET
DTSTART:20141026T010000
END:STANDARD
END:VTIMEZONE
BEGIN:VEVENT
DTSTART;TZID="Europe/Paris":20141205T180000
DTEND;TZID="Europe/Paris":20141207T130000
DTSTAMP:20260420T043333
CREATED:20141009T114803Z
LAST-MODIFIED:20141103T114946Z
UID:8295-1417802400-1417957200@www.leisurecourses.net
SUMMARY:Dutch Art\, Design & Architecture (1890-1939)\, From Art Nouveau to De Stijl
DESCRIPTION:\nThis course\, with Mike Hope\, will set out to show how the Dutch contribution\, in terms of art\, design and architecture\, developed and burst onto the world stage.  The often overlooked flowering of a particular version of Art Nouveau was soon to be challenged and overtaken by a series of movements and exponents\, culminating in the development of De Stijl and the birth of Modernism.  All-comers welcome.  Resident fees from £289 (includes tuition\, 2 nights en-suite accommodation\, full board & refreshments) \n\n \n
URL:https://www.leisurecourses.net/course/dutch-art-design-architecture-1890-1939-art-nouveau-de-stijl/
LOCATION:Dillington\, Dillington House\, Ilminster\, Somerset\, TA19 9DT\, United Kingdom
CATEGORIES:Art Appreciation
ORGANIZER;CN="Dillington":MAILTO:dillington@somerset.gov.uk	
END:VEVENT
END:VCALENDAR