BEGIN:VCALENDAR
VERSION:2.0
PRODID:-//LeisureCourses.net - short courses &amp; residential study breaks in great locations - ECPv4.9.6//NONSGML v1.0//EN
CALSCALE:GREGORIAN
METHOD:PUBLISH
X-WR-CALNAME:LeisureCourses.net - short courses &amp; residential study breaks in great locations
X-ORIGINAL-URL:https://www.leisurecourses.net
X-WR-CALDESC:Events for LeisureCourses.net - short courses &amp; residential study breaks in great locations
BEGIN:VTIMEZONE
TZID:"Europe/Paris"
BEGIN:DAYLIGHT
TZOFFSETFROM:+0100
TZOFFSETTO:+0200
TZNAME:CEST
DTSTART:20160327T010000
END:DAYLIGHT
BEGIN:STANDARD
TZOFFSETFROM:+0200
TZOFFSETTO:+0100
TZNAME:CET
DTSTART:20161030T010000
END:STANDARD
END:VTIMEZONE
BEGIN:VEVENT
DTSTART;TZID="Europe/Paris":20160506T190000
DTEND;TZID="Europe/Paris":20160508T153000
DTSTAMP:20260420T091739
CREATED:20160307T143307Z
LAST-MODIFIED:20160309T125849Z
UID:21235-1462561200-1462721400@www.leisurecourses.net
SUMMARY:Early Music:  From Susato to Sweelinck
DESCRIPTION:\nWhile many composers of Franco-Flemish or Netherlandish stock were lured south to warmer climes\, others preferred to stay put\, adding to the rich seam of music of post-Josquin and post-Lassus idiom. Investigating the latter\, we shall see how Antwerp could compete with Venice in its array of talented printers\, some of their publications of exceptionally high quality. The course will be predominantlypractical\, and is intended for singers and players of early instruments (A=440) confident in a one voice or instrument per part situation. Your application should detail what you intend to offer by way of voice and/or instrument(s)\, especially if you are not already known to the tutor. \n\n \n
URL:https://www.leisurecourses.net/course/early-music-from-susato-to-sweelinck/
LOCATION:Knuston Hall\, Knuston Hall \, Irchester\, Wellingborough \, Northamptonshire \, NN29 7EU\, United Kingdom
CATEGORIES:Music
ORGANIZER;CN="Knuston%20Hall":MAILTO:enquiries@knustonhall.org.uk
END:VEVENT
END:VCALENDAR