BEGIN:VCALENDAR
VERSION:2.0
PRODID:-//LeisureCourses.net - short courses &amp; residential study breaks in great locations - ECPv4.9.6//NONSGML v1.0//EN
CALSCALE:GREGORIAN
METHOD:PUBLISH
X-WR-CALNAME:LeisureCourses.net - short courses &amp; residential study breaks in great locations
X-ORIGINAL-URL:https://www.leisurecourses.net
X-WR-CALDESC:Events for LeisureCourses.net - short courses &amp; residential study breaks in great locations
BEGIN:VTIMEZONE
TZID:"Europe/Paris"
BEGIN:DAYLIGHT
TZOFFSETFROM:+0100
TZOFFSETTO:+0200
TZNAME:CEST
DTSTART:20170326T010000
END:DAYLIGHT
BEGIN:STANDARD
TZOFFSETFROM:+0200
TZOFFSETTO:+0100
TZNAME:CET
DTSTART:20171029T010000
END:STANDARD
END:VTIMEZONE
BEGIN:VEVENT
DTSTART;TZID="Europe/Paris":20171204T163000
DTEND;TZID="Europe/Paris":20171209T100000
DTSTAMP:20260421T084836
CREATED:20170125T092602Z
LAST-MODIFIED:20170125T093718Z
UID:25458-1512405000-1512813600@www.leisurecourses.net
SUMMARY:EDITING A NOVEL
DESCRIPTION:\nAn early draft of a novel is a very different beast froma finished manuscript. How do you get from one to the\nother\, and how do you create distance between yourself\nand your manuscript? How can you hone your sentences\nwhile also digging deeper to discover three-dimensional\ncharacters and a natural narrative drive? Here is your\nchance to work with an experienced editor and novelist.\nYou’ll sharpen your writer’s ears and eyes; you’ll explore\nthe ‘deep wiring’ of your novel; and you’ll relish the\nexperience of coming closer to your own vision and voice. \n\n \n
URL:https://www.leisurecourses.net/course/editing-a-novel/
LOCATION:The Hurst\, The John Osborne Arvon centre\, Clunton\, Craven Arms\, Clunton\, SY70JA\, United Kingdom
CATEGORIES:Writing
ORGANIZER;CN="Arvon":MAILTO:national@arvon.org
END:VEVENT
END:VCALENDAR