BEGIN:VCALENDAR
VERSION:2.0
PRODID:-//LeisureCourses.net - short courses &amp; residential study breaks in great locations - ECPv4.9.6//NONSGML v1.0//EN
CALSCALE:GREGORIAN
METHOD:PUBLISH
X-WR-CALNAME:LeisureCourses.net - short courses &amp; residential study breaks in great locations
X-ORIGINAL-URL:https://www.leisurecourses.net
X-WR-CALDESC:Events for LeisureCourses.net - short courses &amp; residential study breaks in great locations
BEGIN:VTIMEZONE

END:VTIMEZONE
BEGIN:VEVENT
DTSTART;TZID="Europe/Paris":19700101T000000
DTEND;TZID="Europe/Paris":19700101T000000
DTSTAMP:20260420T012834
CREATED:20150215T131940Z
LAST-MODIFIED:20150215T133817Z
UID:12286-0-0@www.leisurecourses.net
SUMMARY:Embroidery -  Elizabethan Raised Work with Julie Walsby
DESCRIPTION:\nElizabethans enjoyed wearing clothing –  lavishly embroidered with stitchery in gold and silk –  scattered with gold spangles (sequins) and characterised by scrolling golden stems enclosing flowers –  leaves and insects. Learn to embroider a three-dimensional peapod and a sparkling butterfly in raised work. Enclose these within a curving scroll in goldwork embellished with beads and then –  for fun –  add a caterpillar or an insect of your choice. \n\n \n
URL:https://www.leisurecourses.net/course/embroidery-elizabethan-raised-work-with-julie-walsby-3/
LOCATION:Denman\, Denman \, Abingdon\, Oxfordshire\, OX13 6NW\, United Kingdom
CATEGORIES:Crafts
ORGANIZER;CN="Denman":MAILTO:info@denman.org.uk
END:VEVENT
END:VCALENDAR