BEGIN:VCALENDAR
VERSION:2.0
PRODID:-//LeisureCourses.net - short courses &amp; residential study breaks in great locations - ECPv4.9.6//NONSGML v1.0//EN
CALSCALE:GREGORIAN
METHOD:PUBLISH
X-WR-CALNAME:LeisureCourses.net - short courses &amp; residential study breaks in great locations
X-ORIGINAL-URL:https://www.leisurecourses.net
X-WR-CALDESC:Events for LeisureCourses.net - short courses &amp; residential study breaks in great locations
BEGIN:VTIMEZONE
TZID:"Europe/Paris"
BEGIN:DAYLIGHT
TZOFFSETFROM:+0100
TZOFFSETTO:+0200
TZNAME:CEST
DTSTART:20140330T010000
END:DAYLIGHT
BEGIN:STANDARD
TZOFFSETFROM:+0200
TZOFFSETTO:+0100
TZNAME:CET
DTSTART:20141026T010000
END:STANDARD
END:VTIMEZONE
BEGIN:VEVENT
DTSTART;TZID="Europe/Paris":20140225T170000
DTEND;TZID="Europe/Paris":20140227T160000
DTSTAMP:20260419T191104
CREATED:20130730T100601Z
LAST-MODIFIED:20130822T124620Z
UID:3964-1393347600-1393516800@www.leisurecourses.net
SUMMARY:Exploring English Music
DESCRIPTION:\nWe will explore the varied repertoire of English music\, featuring compositions by celebrated figures such as Vaughan Williams\, Butterworth\, Bliss\, Finzi\, Britten\, Arnold and Elgar.  There will be full programme notes and music examples on excellent hi-fi equipment\, as well as a live song recital. \nThe Dumbleton Hall Hotel is a splendid and traditional 19th century manor house set in 19 acres of private gardens and woodland with a private lake. The hotel has stunning views of\nthe Vale of Evesham and across to the Cotswolds. \nArts in Residence and Dumbleton Hall offer an excellent cuisine including wine with dinner. The event will end with afternoon tea on Thursday. \n\n \n
URL:https://www.leisurecourses.net/course/exploring-english-music-arts-residence/
LOCATION:Dumbleton Hall Hotel\, Dumbleton\, Evesham\, Worcestershire \, WR11 7TS \, United Kingdom
CATEGORIES:Music
ATTACH;FMTTYPE=image/jpeg:https://www.leisurecourses.net/wp-content/uploads/dumbleton-hall.jpg
ORGANIZER;CN="Arts%20in%20Residence":MAILTO:info@artsinresidence.co.uk
END:VEVENT
END:VCALENDAR