BEGIN:VCALENDAR
VERSION:2.0
PRODID:-//LeisureCourses.net - short courses &amp; residential study breaks in great locations - ECPv4.9.6//NONSGML v1.0//EN
CALSCALE:GREGORIAN
METHOD:PUBLISH
X-WR-CALNAME:LeisureCourses.net - short courses &amp; residential study breaks in great locations
X-ORIGINAL-URL:https://www.leisurecourses.net
X-WR-CALDESC:Events for LeisureCourses.net - short courses &amp; residential study breaks in great locations
BEGIN:VTIMEZONE
TZID:"Europe/Paris"
BEGIN:DAYLIGHT
TZOFFSETFROM:+0100
TZOFFSETTO:+0200
TZNAME:CEST
DTSTART:20170326T010000
END:DAYLIGHT
BEGIN:STANDARD
TZOFFSETFROM:+0200
TZOFFSETTO:+0100
TZNAME:CET
DTSTART:20171029T010000
END:STANDARD
END:VTIMEZONE
BEGIN:VEVENT
DTSTART;TZID="Europe/Paris":20170226T160000
DTEND;TZID="Europe/Paris":20170302T160000
DTSTAMP:20260419T174027
CREATED:20161212T100624Z
LAST-MODIFIED:20161212T110928Z
UID:25316-1488124800-1488470400@www.leisurecourses.net
SUMMARY:Exquisite Japanese Embroidery
DESCRIPTION:\nUsing traditional methods and techniques you will produce truly stunning works of art and learn about Japanese culture. \n\n \n
URL:https://www.leisurecourses.net/course/exquisite-japanese-embroidery/
LOCATION:Hawkwood College\, Painswick Old Road \, Stroud \, Gloucestershire\, GL6 7QW\, United Kingdom
CATEGORIES:Crafts
ORGANIZER;CN="Hawkwood%20College":MAILTO:info@hawkwoodcollege.co.uk
END:VEVENT
END:VCALENDAR