BEGIN:VCALENDAR
VERSION:2.0
PRODID:-//LeisureCourses.net - short courses &amp; residential study breaks in great locations - ECPv4.9.6//NONSGML v1.0//EN
CALSCALE:GREGORIAN
METHOD:PUBLISH
X-WR-CALNAME:LeisureCourses.net - short courses &amp; residential study breaks in great locations
X-ORIGINAL-URL:https://www.leisurecourses.net
X-WR-CALDESC:Events for LeisureCourses.net - short courses &amp; residential study breaks in great locations
BEGIN:VTIMEZONE
TZID:"Europe/Paris"
BEGIN:DAYLIGHT
TZOFFSETFROM:+0100
TZOFFSETTO:+0200
TZNAME:CEST
DTSTART:20160327T010000
END:DAYLIGHT
BEGIN:STANDARD
TZOFFSETFROM:+0200
TZOFFSETTO:+0100
TZNAME:CET
DTSTART:20161030T010000
END:STANDARD
END:VTIMEZONE
BEGIN:VEVENT
DTSTART;TZID="Europe/Paris":20160601T090000
DTEND;TZID="Europe/Paris":20160601T160000
DTSTAMP:20260420T150941
CREATED:20160218T160103Z
LAST-MODIFIED:20160219T104016Z
UID:20844-1464771600-1464796800@www.leisurecourses.net
SUMMARY:Family History Research Day: Using Dillington's Computers or Your Own Laptop
DESCRIPTION:\nIf you have hit a brick wall in your family history research or simply need a few pointers in the right direction\, this one day workshop will provide you with the opportunity to come along and carry out your own research\, whilst receiving guidance and advice from the tutor. A computer will be provided or you are welcome to bring your own laptop. Numbers are limited to ensure that there is plenty of time for each student to be given the help and guidance they require. This workshop is suitable for those who have attended the Introductory Day or have started their own research and need help. Please note that to access many historical records on-line you will need to use chargeable websites so please be prepared for this. \n\n \n
URL:https://www.leisurecourses.net/course/family-history-research-day-using-dillingtons-computers-or-your-own-laptop/
LOCATION:Dillington\, Dillington House\, Ilminster\, Somerset\, TA19 9DT\, United Kingdom
CATEGORIES:History
ORGANIZER;CN="Dillington":MAILTO:dillington@somerset.gov.uk	
END:VEVENT
END:VCALENDAR