BEGIN:VCALENDAR
VERSION:2.0
PRODID:-//LeisureCourses.net - short courses &amp; residential study breaks in great locations - ECPv4.9.6//NONSGML v1.0//EN
CALSCALE:GREGORIAN
METHOD:PUBLISH
X-WR-CALNAME:LeisureCourses.net - short courses &amp; residential study breaks in great locations
X-ORIGINAL-URL:https://www.leisurecourses.net
X-WR-CALDESC:Events for LeisureCourses.net - short courses &amp; residential study breaks in great locations
BEGIN:VTIMEZONE

END:VTIMEZONE
BEGIN:VEVENT
DTSTART;TZID="Europe/Paris":19700101T000000
DTEND;TZID="Europe/Paris":19700101T000000
DTSTAMP:20260420T063042
CREATED:20150215T131944Z
LAST-MODIFIED:20150215T133821Z
UID:12332-0-0@www.leisurecourses.net
SUMMARY:Felt Making -  Nature's Wonder Fabric with Debbie Siniska
DESCRIPTION:\nWorking with coloured fleece fibres that will be laid out over a template –  you will learn felting techniques to create a beautiful seamless item –  which you can decorate with pre-felts and other fibres. Also learn to make straps –  flowers and felted beads to add as decoration to your work. \n\n \n
URL:https://www.leisurecourses.net/course/felt-making-natures-wonder-fabric-with-debbie-siniska-3/
LOCATION:Denman\, Denman \, Abingdon\, Oxfordshire\, OX13 6NW\, United Kingdom
CATEGORIES:Crafts
ORGANIZER;CN="Denman":MAILTO:info@denman.org.uk
END:VEVENT
END:VCALENDAR