BEGIN:VCALENDAR
VERSION:2.0
PRODID:-//LeisureCourses.net - short courses &amp; residential study breaks in great locations - ECPv4.9.6//NONSGML v1.0//EN
CALSCALE:GREGORIAN
METHOD:PUBLISH
X-WR-CALNAME:LeisureCourses.net - short courses &amp; residential study breaks in great locations
X-ORIGINAL-URL:https://www.leisurecourses.net
X-WR-CALDESC:Events for LeisureCourses.net - short courses &amp; residential study breaks in great locations
BEGIN:VTIMEZONE
TZID:"Europe/Paris"
BEGIN:DAYLIGHT
TZOFFSETFROM:+0100
TZOFFSETTO:+0200
TZNAME:CEST
DTSTART:20130331T010000
END:DAYLIGHT
BEGIN:STANDARD
TZOFFSETFROM:+0200
TZOFFSETTO:+0100
TZNAME:CET
DTSTART:20131027T010000
END:STANDARD
END:VTIMEZONE
BEGIN:VEVENT
DTSTART;TZID="Europe/Paris":20131129T200000
DTEND;TZID="Europe/Paris":20131201T124500
DTSTAMP:20260419T190233
CREATED:20131018T093755Z
LAST-MODIFIED:20131031T080629Z
UID:5552-1385755200-1385901900@www.leisurecourses.net
SUMMARY:Festive Knitting
DESCRIPTION:\nThis course aims to…   give participants the opportunity to learn\, practise or develop their knitting skills whilst making some fun Christmas decorations. \nIt is for…   complete beginners who want to learn the basics of knitting in a fun and creative way as well as the more experienced knitter wishing to explore their own creativity\, experiment with new stitches and techniques and create some beautiful decorations for the home. \n\n \n
URL:https://www.leisurecourses.net/course/festive-knitting/
LOCATION:Missenden Abbey\, Great Missenden\, Buckinghamshire\, HP16 0BD\, United Kingdom
CATEGORIES:Crafts
ATTACH;FMTTYPE=image/jpeg:https://www.leisurecourses.net/wp-content/uploads/festive-knits.jpg
ORGANIZER;CN="Buckinghamshire%20Adult%20Learning":MAILTO:dcevreham@buckscc.gov.uk
END:VEVENT
END:VCALENDAR