BEGIN:VCALENDAR
VERSION:2.0
PRODID:-//LeisureCourses.net - short courses &amp; residential study breaks in great locations - ECPv4.9.6//NONSGML v1.0//EN
CALSCALE:GREGORIAN
METHOD:PUBLISH
X-WR-CALNAME:LeisureCourses.net - short courses &amp; residential study breaks in great locations
X-ORIGINAL-URL:https://www.leisurecourses.net
X-WR-CALDESC:Events for LeisureCourses.net - short courses &amp; residential study breaks in great locations
BEGIN:VTIMEZONE
TZID:"Europe/Paris"
BEGIN:DAYLIGHT
TZOFFSETFROM:+0100
TZOFFSETTO:+0200
TZNAME:CEST
DTSTART:20160327T010000
END:DAYLIGHT
BEGIN:STANDARD
TZOFFSETFROM:+0200
TZOFFSETTO:+0100
TZNAME:CET
DTSTART:20161030T010000
END:STANDARD
END:VTIMEZONE
BEGIN:VEVENT
DTSTART;TZID="Europe/Paris":20160818T090000
DTEND;TZID="Europe/Paris":20160818T160000
DTSTAMP:20260419T233545
CREATED:20160218T160115Z
LAST-MODIFIED:20160219T085530Z
UID:20912-1471510800-1471536000@www.leisurecourses.net
SUMMARY:Finland & Iceland: Art\, History & Culture
DESCRIPTION:\nWe will discuss Finland’s battles with Russia\, and the Kalevala\, a 19th-century epic poem of myth and legend. Sibelius will supply haunting music and there is striking art from Albert Edelfelt\, Gallen-Kallela and Hugo Simberg. In Iceland we will look at the world’s oldest parliament\, its volcanoes and geysers\, the music of Sigur Ros and the art of Thorláksson and Jonssón. Also\, the Cod War and the recent economic upheaval. \n\n \n
URL:https://www.leisurecourses.net/course/finland-iceland-art-history-culture/
LOCATION:Dillington\, Dillington House\, Ilminster\, Somerset\, TA19 9DT\, United Kingdom
CATEGORIES:History
ORGANIZER;CN="Dillington":MAILTO:dillington@somerset.gov.uk	
END:VEVENT
END:VCALENDAR