BEGIN:VCALENDAR
VERSION:2.0
PRODID:-//LeisureCourses.net - short courses &amp; residential study breaks in great locations - ECPv4.9.6//NONSGML v1.0//EN
CALSCALE:GREGORIAN
METHOD:PUBLISH
X-WR-CALNAME:LeisureCourses.net - short courses &amp; residential study breaks in great locations
X-ORIGINAL-URL:https://www.leisurecourses.net
X-WR-CALDESC:Events for LeisureCourses.net - short courses &amp; residential study breaks in great locations
BEGIN:VTIMEZONE
TZID:"Europe/Paris"
BEGIN:DAYLIGHT
TZOFFSETFROM:+0100
TZOFFSETTO:+0200
TZNAME:CEST
DTSTART:20160327T010000
END:DAYLIGHT
BEGIN:STANDARD
TZOFFSETFROM:+0200
TZOFFSETTO:+0100
TZNAME:CET
DTSTART:20161030T010000
END:STANDARD
END:VTIMEZONE
BEGIN:VEVENT
DTSTART;TZID="Europe/Paris":20160912T000000
DTEND;TZID="Europe/Paris":20161030T000000
DTSTAMP:20260419T233027
CREATED:20160129T125438Z
LAST-MODIFIED:20160129T134715Z
UID:20371-1473638400-1477785600@www.leisurecourses.net
SUMMARY:Forensic science: poisoning (online)
DESCRIPTION:\nThe course will explore the fascinating topic of forensic science. In the first week participants will be introduced to a crime scene and each week will examine a piece of evidence relating to a suspected poisoning. As the course progresses participants will have to decide\, based on the evidence collected: was a crime committed? What happened at the crime scene and who committed the crime? The topics explored during this course will include an introduction to toxicology including poison and toxin analysis. \n\n \n
URL:https://www.leisurecourses.net/course/forensic-science-poisoning-online/
LOCATION:Madingley Hall\, Madingley Hall\,\, Madingley\, Cambridgeshire\, CB23 8AQ\, United Kingdom
CATEGORIES:Other
ORGANIZER;CN="University%20of%20Cambridge%20Institute%20of%20Continuing%20Education":MAILTO:enquiries@ice.cam.ac.uk
END:VEVENT
END:VCALENDAR