BEGIN:VCALENDAR
VERSION:2.0
PRODID:-//LeisureCourses.net - short courses &amp; residential study breaks in great locations - ECPv4.9.6//NONSGML v1.0//EN
CALSCALE:GREGORIAN
METHOD:PUBLISH
X-WR-CALNAME:LeisureCourses.net - short courses &amp; residential study breaks in great locations
X-ORIGINAL-URL:https://www.leisurecourses.net
X-WR-CALDESC:Events for LeisureCourses.net - short courses &amp; residential study breaks in great locations
BEGIN:VTIMEZONE
TZID:"Europe/Paris"
BEGIN:DAYLIGHT
TZOFFSETFROM:+0100
TZOFFSETTO:+0200
TZNAME:CEST
DTSTART:20160327T010000
END:DAYLIGHT
BEGIN:STANDARD
TZOFFSETFROM:+0200
TZOFFSETTO:+0100
TZNAME:CET
DTSTART:20161030T010000
END:STANDARD
END:VTIMEZONE
BEGIN:VEVENT
DTSTART;TZID="Europe/Paris":20160513T190000
DTEND;TZID="Europe/Paris":20160515T153000
DTSTAMP:20260420T135239
CREATED:20160307T143308Z
LAST-MODIFIED:20160309T125131Z
UID:21241-1463166000-1463326200@www.leisurecourses.net
SUMMARY:French (Advanced)
DESCRIPTION:\nUn week-end tout en français ! Nous étudierons le roman de Kamel Daoud\, Meursault contre-enquête\, ce qui nous donnera l’occasion de redécouvrir L’Etranger d’Albert Camus. Deux livres pour le prix d’un !  Je vous engage à les lire tous les deux et  à venir prêts à discuter en français avec d’autres étudiants tout aussi motivés que vous. This course is suitable for those who have reached A level standard or above. \n\n \n
URL:https://www.leisurecourses.net/course/french-advanced/
LOCATION:Knuston Hall\, Knuston Hall \, Irchester\, Wellingborough \, Northamptonshire \, NN29 7EU\, United Kingdom
CATEGORIES:Languages
ORGANIZER;CN="Knuston%20Hall":MAILTO:enquiries@knustonhall.org.uk
END:VEVENT
END:VCALENDAR