BEGIN:VCALENDAR
VERSION:2.0
PRODID:-//LeisureCourses.net - short courses &amp; residential study breaks in great locations - ECPv4.9.6//NONSGML v1.0//EN
CALSCALE:GREGORIAN
METHOD:PUBLISH
X-WR-CALNAME:LeisureCourses.net - short courses &amp; residential study breaks in great locations
X-ORIGINAL-URL:https://www.leisurecourses.net
X-WR-CALDESC:Events for LeisureCourses.net - short courses &amp; residential study breaks in great locations
BEGIN:VTIMEZONE
TZID:"Europe/Paris"
BEGIN:DAYLIGHT
TZOFFSETFROM:+0100
TZOFFSETTO:+0200
TZNAME:CEST
DTSTART:20160327T010000
END:DAYLIGHT
BEGIN:STANDARD
TZOFFSETFROM:+0200
TZOFFSETTO:+0100
TZNAME:CET
DTSTART:20161030T010000
END:STANDARD
END:VTIMEZONE
BEGIN:VEVENT
DTSTART;TZID="Europe/Paris":20160415T190000
DTEND;TZID="Europe/Paris":20160417T140000
DTSTAMP:20260420T091709
CREATED:20160129T125426Z
LAST-MODIFIED:20160129T152055Z
UID:20291-1460746800-1460901600@www.leisurecourses.net
SUMMARY:From here to the edge of the observable Universe
DESCRIPTION:\nHave you ever wondered about planets\, stars\, galaxies\, black holes\, dark matter\, vacuum energy\, or if we are alone in the Universe? If so\, this non-mathematical introductory course on modern astronomy is for you. The course will take the form of a tour starting in our solar system and ending at the limit of our view of the Universe. \n\n \n
URL:https://www.leisurecourses.net/course/from-here-to-the-edge-of-the-observable-universe/
LOCATION:Madingley Hall\, Madingley Hall\,\, Madingley\, Cambridgeshire\, CB23 8AQ\, United Kingdom
CATEGORIES:Other
ORGANIZER;CN="University%20of%20Cambridge%20Institute%20of%20Continuing%20Education":MAILTO:enquiries@ice.cam.ac.uk
END:VEVENT
END:VCALENDAR