BEGIN:VCALENDAR
VERSION:2.0
PRODID:-//LeisureCourses.net - short courses &amp; residential study breaks in great locations - ECPv4.9.6//NONSGML v1.0//EN
CALSCALE:GREGORIAN
METHOD:PUBLISH
X-WR-CALNAME:LeisureCourses.net - short courses &amp; residential study breaks in great locations
X-ORIGINAL-URL:https://www.leisurecourses.net
X-WR-CALDESC:Events for LeisureCourses.net - short courses &amp; residential study breaks in great locations
BEGIN:VTIMEZONE
TZID:"Europe/Paris"
BEGIN:DAYLIGHT
TZOFFSETFROM:+0100
TZOFFSETTO:+0200
TZNAME:CEST
DTSTART:20140330T010000
END:DAYLIGHT
BEGIN:STANDARD
TZOFFSETFROM:+0200
TZOFFSETTO:+0100
TZNAME:CET
DTSTART:20141026T010000
END:STANDARD
END:VTIMEZONE
BEGIN:VEVENT
DTSTART;TZID="Europe/Paris":20140118T090000
DTEND;TZID="Europe/Paris":20140118T170000
DTSTAMP:20260420T122945
CREATED:20131208T075710Z
LAST-MODIFIED:20131208T050202Z
UID:5928-1390035600-1390064400@www.leisurecourses.net
SUMMARY:Gentle De-Toxing and Real Nourishment after the Festive Season
DESCRIPTION:\nMany of us over-indulge and arrive in January planning to change our ways and feel better.  This practical course will introduce simple de-toxing strategies  together with techniques and recipes to help you easily prepare good food and drinks that can be enjoyed with pleasure while meeting nutritional needs.  All you need is a willingness to minimise stress to your system. Bring your questions! \nIncludes a delicious raw food lunch and refreshments \nJudy Barber is a Hippocrates Health Educator and food writer. \n\n \n
URL:https://www.leisurecourses.net/course/gentle-de-toxing-real-nourishment-festive-season/
LOCATION:Hawkwood College\, Painswick Old Road \, Stroud \, Gloucestershire\, GL6 7QW\, United Kingdom
CATEGORIES:Fitness & Wellbeing
ORGANIZER;CN="Hawkwood%20College":MAILTO:info@hawkwoodcollege.co.uk
END:VEVENT
END:VCALENDAR