BEGIN:VCALENDAR
VERSION:2.0
PRODID:-//LeisureCourses.net - short courses &amp; residential study breaks in great locations - ECPv4.9.6//NONSGML v1.0//EN
CALSCALE:GREGORIAN
METHOD:PUBLISH
X-WR-CALNAME:LeisureCourses.net - short courses &amp; residential study breaks in great locations
X-ORIGINAL-URL:https://www.leisurecourses.net
X-WR-CALDESC:Events for LeisureCourses.net - short courses &amp; residential study breaks in great locations
BEGIN:VTIMEZONE
TZID:"Europe/Paris"
BEGIN:DAYLIGHT
TZOFFSETFROM:+0100
TZOFFSETTO:+0200
TZNAME:CEST
DTSTART:20140330T010000
END:DAYLIGHT
BEGIN:STANDARD
TZOFFSETFROM:+0200
TZOFFSETTO:+0100
TZNAME:CET
DTSTART:20141026T010000
END:STANDARD
END:VTIMEZONE
BEGIN:VEVENT
DTSTART;TZID="Europe/Paris":20140707T170000
DTEND;TZID="Europe/Paris":20140709T140000
DTSTAMP:20260420T042507
CREATED:20140611T092502Z
LAST-MODIFIED:20140611T092502Z
UID:6725-1404752400-1404914400@www.leisurecourses.net
SUMMARY:Gold in Stumpwork
DESCRIPTION:\nThe definition of stumpwork is elaborate raised embroidery of the fifteenth to seventeenth centuries using a variety of materials\, giving a dimensional look to the piece of work. On this course we will be covering a variety of techniques incorporating old wires\, beads\, fabrics and threads\, and needlelace stitches. The theme is going to be mostly on flower shapes\, and could also incorporate a beautiful gold ladybird. All levels welcome. \n\n \n
URL:https://www.leisurecourses.net/course/gold-stumpwork/
LOCATION:Dillington\, Dillington House\, Ilminster\, Somerset\, TA19 9DT\, United Kingdom
CATEGORIES:Crafts
ORGANIZER;CN="Dillington":MAILTO:dillington@somerset.gov.uk	
END:VEVENT
END:VCALENDAR