BEGIN:VCALENDAR
VERSION:2.0
PRODID:-//LeisureCourses.net - short courses &amp; residential study breaks in great locations - ECPv4.9.6//NONSGML v1.0//EN
CALSCALE:GREGORIAN
METHOD:PUBLISH
X-WR-CALNAME:LeisureCourses.net - short courses &amp; residential study breaks in great locations
X-ORIGINAL-URL:https://www.leisurecourses.net
X-WR-CALDESC:Events for LeisureCourses.net - short courses &amp; residential study breaks in great locations
BEGIN:VTIMEZONE
TZID:"Europe/Paris"
BEGIN:DAYLIGHT
TZOFFSETFROM:+0100
TZOFFSETTO:+0200
TZNAME:CEST
DTSTART:20160327T010000
END:DAYLIGHT
BEGIN:STANDARD
TZOFFSETFROM:+0200
TZOFFSETTO:+0100
TZNAME:CET
DTSTART:20161030T010000
END:STANDARD
END:VTIMEZONE
BEGIN:VEVENT
DTSTART;TZID="Europe/Paris":20160907T090000
DTEND;TZID="Europe/Paris":20160907T164500
DTSTAMP:20260419T232320
CREATED:20160307T143323Z
LAST-MODIFIED:20160307T155217Z
UID:21355-1473238800-1473266700@www.leisurecourses.net
SUMMARY:Goldwork Embroidery Day
DESCRIPTION:\nBe introduced to goldwork embroidery by making a delightful Christmas decoration. This course is ideal for beginners\, but is open to all wishing to learn the basics behind this form of embroidery through a small set project. Students will work up a small section of each technique and will have learnt enough to complete the remaining part of the decoration at home. It is an excellent starting point and students could easily progress onto a longer course to increase their skills further.  \n\n \n
URL:https://www.leisurecourses.net/course/goldwork-embroidery-day/
LOCATION:Knuston Hall\, Knuston Hall \, Irchester\, Wellingborough \, Northamptonshire \, NN29 7EU\, United Kingdom
CATEGORIES:Crafts
ORGANIZER;CN="Knuston%20Hall":MAILTO:enquiries@knustonhall.org.uk
END:VEVENT
END:VCALENDAR