BEGIN:VCALENDAR
VERSION:2.0
PRODID:-//LeisureCourses.net - short courses &amp; residential study breaks in great locations - ECPv4.9.6//NONSGML v1.0//EN
CALSCALE:GREGORIAN
METHOD:PUBLISH
X-WR-CALNAME:LeisureCourses.net - short courses &amp; residential study breaks in great locations
X-ORIGINAL-URL:https://www.leisurecourses.net
X-WR-CALDESC:Events for LeisureCourses.net - short courses &amp; residential study breaks in great locations
BEGIN:VTIMEZONE
TZID:"Europe/Paris"
BEGIN:DAYLIGHT
TZOFFSETFROM:+0100
TZOFFSETTO:+0200
TZNAME:CEST
DTSTART:20140330T010000
END:DAYLIGHT
BEGIN:STANDARD
TZOFFSETFROM:+0200
TZOFFSETTO:+0100
TZNAME:CET
DTSTART:20141026T010000
END:STANDARD
END:VTIMEZONE
BEGIN:VEVENT
DTSTART;TZID="Europe/Paris":20140425T180000
DTEND;TZID="Europe/Paris":20140427T130000
DTSTAMP:20260420T085559
CREATED:20131212T073606Z
LAST-MODIFIED:20131214T111513Z
UID:5947-1398448800-1398603600@www.leisurecourses.net
SUMMARY:Gregorian Chant for Everyone
DESCRIPTION:\n \nJohn Rowlands-Prichard \n\nThis is an entertaining\, informative and friendly chance to experience Gregorian chant through singing it. The fully participatory course in the wonderful surroundings of Dillington House is open to anyone; no specialist knowledge or skill is necessary. Good singers are naturally most welcome\, as are those afraid to sing but fascinated by the idea of the chant or interested in cultural history. The final session is a concert in which we will join the professional 6-man Opus Anglicanum “English Work”\, in the presentation of The Song of Angels. \n\n \n
URL:https://www.leisurecourses.net/course/gregorian-chant/
LOCATION:Dillington\, Dillington House\, Ilminster\, Somerset\, TA19 9DT\, United Kingdom
CATEGORIES:Singing
ORGANIZER;CN="Dillington":MAILTO:dillington@somerset.gov.uk	
END:VEVENT
END:VCALENDAR