BEGIN:VCALENDAR
VERSION:2.0
PRODID:-//LeisureCourses.net - short courses &amp; residential study breaks in great locations - ECPv4.9.6//NONSGML v1.0//EN
CALSCALE:GREGORIAN
METHOD:PUBLISH
X-WR-CALNAME:LeisureCourses.net - short courses &amp; residential study breaks in great locations
X-ORIGINAL-URL:https://www.leisurecourses.net
X-WR-CALDESC:Events for LeisureCourses.net - short courses &amp; residential study breaks in great locations
BEGIN:VTIMEZONE
TZID:"Europe/Paris"
BEGIN:DAYLIGHT
TZOFFSETFROM:+0100
TZOFFSETTO:+0200
TZNAME:CEST
DTSTART:20160327T010000
END:DAYLIGHT
BEGIN:STANDARD
TZOFFSETFROM:+0200
TZOFFSETTO:+0100
TZNAME:CET
DTSTART:20161030T010000
END:STANDARD
END:VTIMEZONE
BEGIN:VEVENT
DTSTART;TZID="Europe/Paris":20160729T150000
DTEND;TZID="Europe/Paris":20160731T170000
DTSTAMP:20260422T152351
CREATED:20160417T084006Z
LAST-MODIFIED:20160419T103414Z
UID:22155-1469804400-1469984400@www.leisurecourses.net
SUMMARY:Getting to Grips with Patchwork Weekend
DESCRIPTION:\nWhether you are new to patchwork or have many years’ experience\, here is an opportunity to expand your sewing skills and discover a wide range of techniques. If you want to improve you appliqué\, discover quick ways to produce perfect points\, or create a stunning border for your quilt\, this is the weekend course for you. With a whole range of projects and a good mix of hand and machine techniques offered\, there is bound to be something that catches your eye. \n\n \n
URL:https://www.leisurecourses.net/course/grips-patchwork-weekend/
LOCATION:Theobalds Park\, Lieutenant Ellis Way\, Cheshunt\, EN7 5HW\, United Kingdom
CATEGORIES:Crafts
ORGANIZER;CN="Anglia%20Leisure%20Learning":MAILTO:info@anglialeisurelearning.co.uk
END:VEVENT
END:VCALENDAR