BEGIN:VCALENDAR
VERSION:2.0
PRODID:-//LeisureCourses.net - short courses &amp; residential study breaks in great locations - ECPv4.9.6//NONSGML v1.0//EN
CALSCALE:GREGORIAN
METHOD:PUBLISH
X-WR-CALNAME:LeisureCourses.net - short courses &amp; residential study breaks in great locations
X-ORIGINAL-URL:https://www.leisurecourses.net
X-WR-CALDESC:Events for LeisureCourses.net - short courses &amp; residential study breaks in great locations
BEGIN:VTIMEZONE
TZID:"Europe/Paris"
BEGIN:DAYLIGHT
TZOFFSETFROM:+0100
TZOFFSETTO:+0200
TZNAME:CEST
DTSTART:20160327T010000
END:DAYLIGHT
BEGIN:STANDARD
TZOFFSETFROM:+0200
TZOFFSETTO:+0100
TZNAME:CET
DTSTART:20161030T010000
END:STANDARD
END:VTIMEZONE
BEGIN:VEVENT
DTSTART;TZID="Europe/Paris":20160530T000000
DTEND;TZID="Europe/Paris":20160717T000000
DTSTAMP:20260420T020010
CREATED:20160129T125434Z
LAST-MODIFIED:20160129T141816Z
UID:20339-1464566400-1468713600@www.leisurecourses.net
SUMMARY:How do fossils record evolution? An exploration of the nature of the fossil record (online)
DESCRIPTION:\nThis course addresses the question of how fossils record evolution through an exploration of the nature of the fossil record. From a look at the initial discovery and interpretation of fossils we will examine the emergence of their modern interpretation as the remains of once living organisms. This reveals the biased and fragmentary nature of the fossil record\, which presented a considerable problem to Charles Darwin and is still being resolved today with new techniques of investigation. We will outline the history of life’s evolution and extinction\, look at the future potential of the fossil record and discuss some remaining problems of interpretation. Finally\, there is a brief introduction to finding fossils\, how to prepare and identify them. \n\n \n
URL:https://www.leisurecourses.net/course/how-do-fossils-record-evolution-an-exploration-of-the-nature-of-the-fossil-record-online/
LOCATION:Madingley Hall\, Madingley Hall\,\, Madingley\, Cambridgeshire\, CB23 8AQ\, United Kingdom
CATEGORIES:Other
ORGANIZER;CN="University%20of%20Cambridge%20Institute%20of%20Continuing%20Education":MAILTO:enquiries@ice.cam.ac.uk
END:VEVENT
END:VCALENDAR