BEGIN:VCALENDAR
VERSION:2.0
PRODID:-//LeisureCourses.net - short courses &amp; residential study breaks in great locations - ECPv4.9.6//NONSGML v1.0//EN
CALSCALE:GREGORIAN
METHOD:PUBLISH
X-WR-CALNAME:LeisureCourses.net - short courses &amp; residential study breaks in great locations
X-ORIGINAL-URL:https://www.leisurecourses.net
X-WR-CALDESC:Events for LeisureCourses.net - short courses &amp; residential study breaks in great locations
BEGIN:VTIMEZONE
TZID:"Europe/Paris"
BEGIN:DAYLIGHT
TZOFFSETFROM:+0100
TZOFFSETTO:+0200
TZNAME:CEST
DTSTART:20160327T010000
END:DAYLIGHT
BEGIN:STANDARD
TZOFFSETFROM:+0200
TZOFFSETTO:+0100
TZNAME:CET
DTSTART:20161030T010000
END:STANDARD
END:VTIMEZONE
BEGIN:VEVENT
DTSTART;TZID="Europe/Paris":20160410T143000
DTEND;TZID="Europe/Paris":20160410T160000
DTSTAMP:20260420T024532
CREATED:20160218T160101Z
LAST-MODIFIED:20160219T110818Z
UID:20821-1460298600-1460304000@www.leisurecourses.net
SUMMARY:Illustrations from the Edge - The Art of Exploration'
DESCRIPTION:\nA sumptuously illustrated talk about the work of six British ‘expedition artists’ who travelled with some of the world’s great explorers from the C18th to C20th. You will see wonderful illustrations by William Hodges\, David Roberts\, Edward Wilson\, Thomas Moran\, Thomas Baines and Conrad Martens\, accompanied by Brian’s stunning images from 5 continents. A true visual treat for art lovers and armchair travellers! \n\n \n
URL:https://www.leisurecourses.net/course/illustrations-from-the-edge-the-art-of-exploration/
LOCATION:Dillington\, Dillington House\, Ilminster\, Somerset\, TA19 9DT\, United Kingdom
CATEGORIES:Other
ORGANIZER;CN="Dillington":MAILTO:dillington@somerset.gov.uk	
END:VEVENT
END:VCALENDAR