BEGIN:VCALENDAR
VERSION:2.0
PRODID:-//LeisureCourses.net - short courses &amp; residential study breaks in great locations - ECPv4.9.6//NONSGML v1.0//EN
CALSCALE:GREGORIAN
METHOD:PUBLISH
X-WR-CALNAME:LeisureCourses.net - short courses &amp; residential study breaks in great locations
X-ORIGINAL-URL:https://www.leisurecourses.net
X-WR-CALDESC:Events for LeisureCourses.net - short courses &amp; residential study breaks in great locations
BEGIN:VTIMEZONE
TZID:"Europe/Paris"
BEGIN:DAYLIGHT
TZOFFSETFROM:+0100
TZOFFSETTO:+0200
TZNAME:CEST
DTSTART:20130331T010000
END:DAYLIGHT
BEGIN:STANDARD
TZOFFSETFROM:+0200
TZOFFSETTO:+0100
TZNAME:CET
DTSTART:20131027T010000
END:STANDARD
END:VTIMEZONE
BEGIN:VEVENT
DTSTART;TZID="Europe/Paris":20131122T190000
DTEND;TZID="Europe/Paris":20131124T153000
DTSTAMP:20260419T173059
CREATED:20130905T062224Z
LAST-MODIFIED:20130905T062224Z
UID:4842-1385146800-1385307000@www.leisurecourses.net
SUMMARY:Intermediate Italian
DESCRIPTION:\nA course designed specifically for students eager to take a basic knowledge of Italian a step further\, and to practise their communication skills.  By using certain techniques and routines particular to the tutor\, the student will be able to improve upon their existing Italian\, and rediscover an interest in\, and a love of\, a beautiful language. Visual and literary sources will provide a stimulating environment. All of this takes place in a friendly non-competitive environment\, aimed at achieving the optimum results from each individual. \n\n \n
URL:https://www.leisurecourses.net/course/intermediate-italian/
LOCATION:Knuston Hall\, Knuston Hall \, Irchester\, Wellingborough \, Northamptonshire \, NN29 7EU\, United Kingdom
CATEGORIES:Languages
ORGANIZER;CN="Knuston%20Hall":MAILTO:enquiries@knustonhall.org.uk
END:VEVENT
END:VCALENDAR