BEGIN:VCALENDAR
VERSION:2.0
PRODID:-//LeisureCourses.net - short courses &amp; residential study breaks in great locations - ECPv4.9.6//NONSGML v1.0//EN
CALSCALE:GREGORIAN
METHOD:PUBLISH
X-WR-CALNAME:LeisureCourses.net - short courses &amp; residential study breaks in great locations
X-ORIGINAL-URL:https://www.leisurecourses.net
X-WR-CALDESC:Events for LeisureCourses.net - short courses &amp; residential study breaks in great locations
BEGIN:VTIMEZONE
TZID:"Europe/Paris"
BEGIN:DAYLIGHT
TZOFFSETFROM:+0100
TZOFFSETTO:+0200
TZNAME:CEST
DTSTART:20160327T010000
END:DAYLIGHT
BEGIN:STANDARD
TZOFFSETFROM:+0200
TZOFFSETTO:+0100
TZNAME:CET
DTSTART:20161030T010000
END:STANDARD
END:VTIMEZONE
BEGIN:VEVENT
DTSTART;TZID="Europe/Paris":20160318T190000
DTEND;TZID="Europe/Paris":20160320T140000
DTSTAMP:20260420T024617
CREATED:20160129T125424Z
LAST-MODIFIED:20160129T164042Z
UID:20270-1458327600-1458482400@www.leisurecourses.net
SUMMARY:Intermediate Russian: The 1917 Revolution - facts\, fiction\, arts
DESCRIPTION:\nThis weekend is designed for those who already have a reasonable conversational grasp of Russian. You will be able to expand your knowledge of contemporary Russian language\, culture and society and gain more confidence in speaking and writing. The sessions will be mostly in Russian and will include\, besides language exercises\, a look at current affairs\, a talk on an aspect of Russian history or culture\, a Russian film and a discussion of a story or an article. The linguistic level required is Intermediate; that is\, B1 according to the Common European Framework of Reference for Languages. \n\n \n
URL:https://www.leisurecourses.net/course/intermediate-russian-the-1917-revolution-facts-fiction-arts/
LOCATION:Madingley Hall\, Madingley Hall\,\, Madingley\, Cambridgeshire\, CB23 8AQ\, United Kingdom
CATEGORIES:Languages
ORGANIZER;CN="University%20of%20Cambridge%20Institute%20of%20Continuing%20Education":MAILTO:enquiries@ice.cam.ac.uk
END:VEVENT
END:VCALENDAR