BEGIN:VCALENDAR
VERSION:2.0
PRODID:-//LeisureCourses.net - short courses &amp; residential study breaks in great locations - ECPv4.9.6//NONSGML v1.0//EN
CALSCALE:GREGORIAN
METHOD:PUBLISH
X-WR-CALNAME:LeisureCourses.net - short courses &amp; residential study breaks in great locations
X-ORIGINAL-URL:https://www.leisurecourses.net
X-WR-CALDESC:Events for LeisureCourses.net - short courses &amp; residential study breaks in great locations
BEGIN:VTIMEZONE
TZID:"Europe/Paris"
BEGIN:DAYLIGHT
TZOFFSETFROM:+0100
TZOFFSETTO:+0200
TZNAME:CEST
DTSTART:20160327T010000
END:DAYLIGHT
BEGIN:STANDARD
TZOFFSETFROM:+0200
TZOFFSETTO:+0100
TZNAME:CET
DTSTART:20161030T010000
END:STANDARD
END:VTIMEZONE
BEGIN:VEVENT
DTSTART;TZID="Europe/Paris":20160622T083000
DTEND;TZID="Europe/Paris":20160624T173000
DTSTAMP:20260419T221704
CREATED:20151028T120613Z
LAST-MODIFIED:20151028T120613Z
UID:18289-1466584200-1466789400@www.leisurecourses.net
SUMMARY:Introduction to Boat Building
DESCRIPTION:\nEver wondered what thwarts or cold moulding are?  This ‘boat beginners’ course looks at how different boats are shaped and why\, terminology\, construction methods\, materials\, propulsion\, sails and rigs and rigging. Unusually for the Academy this is a classroom based course but workshop walkabouts and short strolls to the harbour and Cornish Pilot Gig shed to look at boats mean legs will be stretched regularly. \nIf you would like any further information please do not hesitate to contact us. If you would like to reserve a place on the course\, please download the PDF form and send it\, with your payment\, to the address on the form. \n\n \n
URL:https://www.leisurecourses.net/course/introduction-boat-building/
LOCATION:Boat Building Academy\, Lyme Regis Marine Centre\, Monmouth Beach \, Lyme Regis\, Dorset\, DT7 3JN\, United Kingdom
CATEGORIES:Crafts
ATTACH;FMTTYPE=image/jpeg:https://www.leisurecourses.net/wp-content/uploads/bbacademy.jpg
ORGANIZER;CN="Boat%20Building%20Academy":MAILTO:office@boatbuildingacademy.com
END:VEVENT
END:VCALENDAR