BEGIN:VCALENDAR
VERSION:2.0
PRODID:-//LeisureCourses.net - short courses &amp; residential study breaks in great locations - ECPv4.9.6//NONSGML v1.0//EN
CALSCALE:GREGORIAN
METHOD:PUBLISH
X-WR-CALNAME:LeisureCourses.net - short courses &amp; residential study breaks in great locations
X-ORIGINAL-URL:https://www.leisurecourses.net
X-WR-CALDESC:Events for LeisureCourses.net - short courses &amp; residential study breaks in great locations
BEGIN:VTIMEZONE
TZID:"Europe/Paris"
BEGIN:DAYLIGHT
TZOFFSETFROM:+0100
TZOFFSETTO:+0200
TZNAME:CEST
DTSTART:20160327T010000
END:DAYLIGHT
BEGIN:STANDARD
TZOFFSETFROM:+0200
TZOFFSETTO:+0100
TZNAME:CET
DTSTART:20161030T010000
END:STANDARD
END:VTIMEZONE
BEGIN:VEVENT
DTSTART;TZID="Europe/Paris":20160507T100000
DTEND;TZID="Europe/Paris":20160508T151500
DTSTAMP:20260420T024645
CREATED:20160108T111248Z
LAST-MODIFIED:20160111T102450Z
UID:19729-1462615200-1462720500@www.leisurecourses.net
SUMMARY:Japanese Sumi-e - Traditional art form of Japanese ink painting
DESCRIPTION:\nAn introduction to Sumi-e\, the ancient art of creating Japanese ink pictures or Japanese brush painting. Traditionally\, these paintings feature subjects from the natural world such as flowers and birds. The Japanese experience painting as a form of meditation that brings peace and harmony to the artist and the finished pieces are intended to inspire the same sense of tranquillity and joy in the viewer. \n\n \n
URL:https://www.leisurecourses.net/course/japanese-sumi-e-traditional-art-form-of-japanese-ink-painting/
LOCATION:Missenden Abbey\, Great Missenden\, Buckinghamshire\, HP16 0BD\, United Kingdom
CATEGORIES:Painting
ORGANIZER;CN="Buckinghamshire%20Adult%20Learning":MAILTO:dcevreham@buckscc.gov.uk
END:VEVENT
END:VCALENDAR